BEGIN:VCALENDAR
VERSION:2.0
PRODID:-//Noozhawk - ECPv6.15.20//NONSGML v1.0//EN
CALSCALE:GREGORIAN
METHOD:PUBLISH
X-ORIGINAL-URL:https://www.noozhawk.com
X-WR-CALDESC:Events for Noozhawk
REFRESH-INTERVAL;VALUE=DURATION:PT1H
X-Robots-Tag:noindex
X-PUBLISHED-TTL:PT1H
BEGIN:VTIMEZONE
TZID:America/Los_Angeles
BEGIN:DAYLIGHT
TZOFFSETFROM:-0800
TZOFFSETTO:-0700
TZNAME:PDT
DTSTART:20240310T100000
END:DAYLIGHT
BEGIN:STANDARD
TZOFFSETFROM:-0700
TZOFFSETTO:-0800
TZNAME:PST
DTSTART:20241103T090000
END:STANDARD
BEGIN:DAYLIGHT
TZOFFSETFROM:-0800
TZOFFSETTO:-0700
TZNAME:PDT
DTSTART:20250309T100000
END:DAYLIGHT
BEGIN:STANDARD
TZOFFSETFROM:-0700
TZOFFSETTO:-0800
TZNAME:PST
DTSTART:20251102T090000
END:STANDARD
BEGIN:DAYLIGHT
TZOFFSETFROM:-0800
TZOFFSETTO:-0700
TZNAME:PDT
DTSTART:20260308T100000
END:DAYLIGHT
BEGIN:STANDARD
TZOFFSETFROM:-0700
TZOFFSETTO:-0800
TZNAME:PST
DTSTART:20261101T090000
END:STANDARD
END:VTIMEZONE
BEGIN:VEVENT
DTSTART;TZID=America/Los_Angeles:20250608T050000
DTEND;TZID=America/Los_Angeles:20250608T190000
DTSTAMP:20260419T074346
CREATED:20250530T235105Z
LAST-MODIFIED:20250530T235105Z
UID:10023953-1749358800-1749409200@www.noozhawk.com
SUMMARY:Blue Skies and Shimmering Seas Preview Weekend with Brad Betts
DESCRIPTION:Join Art & Soul for a special Preview Weekend\, June 5–8\, with celebrated painter Brad Betts\, Signature Member of ASMA. Festivities begin Thursday with an exclusive Meet & Greet from 4–5 PM\, followed by the First Thursday Art Walk from 5–8 PM\, featuring live steel drum music by Ben Betts and wines by Brander Winery. On Friday evening\, enjoy an Artist Talk and live painting demo from 5–7 PM. Then\, take part in guided plein air painting sessions with the artist along Santa Barbara’s stunning coastline on Saturday and Sunday. A unique opportunity to meet the artist\, experience his process\, and soak in the beauty that inspires his work.
URL:https://www.noozhawk.com/calendar-old/blue-skies-and-shimmering-seas-preview-weekend-with-brad-betts/2025-06-08/
LOCATION:Art and Soul Arts District\, 1323 State Street\, Santa Barbara\, 93108\, United States
ATTACH;FMTTYPE=image/jpeg:https://www.noozhawk.com/wp-content/uploads/2025/05/BradBetts-scaled.jpeg
ORGANIZER;CN="Art &amp%3B Soul":MAILTO:artandsoulsb@gmail.com
GEO:34.4246753;-119.706749
X-APPLE-STRUCTURED-LOCATION;VALUE=URI;X-ADDRESS=Art and Soul Arts District 1323 State Street Santa Barbara 93108 United States;X-APPLE-RADIUS=500;X-TITLE=1323 State Street:geo:-119.706749,34.4246753
END:VEVENT
BEGIN:VEVENT
DTSTART;TZID=America/Los_Angeles:20250607T050000
DTEND;TZID=America/Los_Angeles:20250607T190000
DTSTAMP:20260419T074346
CREATED:20250530T235105Z
LAST-MODIFIED:20250530T235105Z
UID:10023952-1749272400-1749322800@www.noozhawk.com
SUMMARY:Blue Skies and Shimmering Seas Preview Weekend with Brad Betts
DESCRIPTION:Join Art & Soul for a special Preview Weekend\, June 5–8\, with celebrated painter Brad Betts\, Signature Member of ASMA. Festivities begin Thursday with an exclusive Meet & Greet from 4–5 PM\, followed by the First Thursday Art Walk from 5–8 PM\, featuring live steel drum music by Ben Betts and wines by Brander Winery. On Friday evening\, enjoy an Artist Talk and live painting demo from 5–7 PM. Then\, take part in guided plein air painting sessions with the artist along Santa Barbara’s stunning coastline on Saturday and Sunday. A unique opportunity to meet the artist\, experience his process\, and soak in the beauty that inspires his work.
URL:https://www.noozhawk.com/calendar-old/blue-skies-and-shimmering-seas-preview-weekend-with-brad-betts/2025-06-07/
LOCATION:Art and Soul Arts District\, 1323 State Street\, Santa Barbara\, 93108\, United States
ATTACH;FMTTYPE=image/jpeg:https://www.noozhawk.com/wp-content/uploads/2025/05/BradBetts-scaled.jpeg
ORGANIZER;CN="Art &amp%3B Soul":MAILTO:artandsoulsb@gmail.com
GEO:34.4246753;-119.706749
X-APPLE-STRUCTURED-LOCATION;VALUE=URI;X-ADDRESS=Art and Soul Arts District 1323 State Street Santa Barbara 93108 United States;X-APPLE-RADIUS=500;X-TITLE=1323 State Street:geo:-119.706749,34.4246753
END:VEVENT
BEGIN:VEVENT
DTSTART;TZID=America/Los_Angeles:20250606T050000
DTEND;TZID=America/Los_Angeles:20250606T190000
DTSTAMP:20260419T074346
CREATED:20250530T235105Z
LAST-MODIFIED:20250530T235105Z
UID:10023951-1749186000-1749236400@www.noozhawk.com
SUMMARY:Blue Skies and Shimmering Seas Preview Weekend with Brad Betts
DESCRIPTION:Join Art & Soul for a special Preview Weekend\, June 5–8\, with celebrated painter Brad Betts\, Signature Member of ASMA. Festivities begin Thursday with an exclusive Meet & Greet from 4–5 PM\, followed by the First Thursday Art Walk from 5–8 PM\, featuring live steel drum music by Ben Betts and wines by Brander Winery. On Friday evening\, enjoy an Artist Talk and live painting demo from 5–7 PM. Then\, take part in guided plein air painting sessions with the artist along Santa Barbara’s stunning coastline on Saturday and Sunday. A unique opportunity to meet the artist\, experience his process\, and soak in the beauty that inspires his work.
URL:https://www.noozhawk.com/calendar-old/blue-skies-and-shimmering-seas-preview-weekend-with-brad-betts/2025-06-06/
LOCATION:Art and Soul Arts District\, 1323 State Street\, Santa Barbara\, 93108\, United States
ATTACH;FMTTYPE=image/jpeg:https://www.noozhawk.com/wp-content/uploads/2025/05/BradBetts-scaled.jpeg
ORGANIZER;CN="Art &amp%3B Soul":MAILTO:artandsoulsb@gmail.com
GEO:34.4246753;-119.706749
X-APPLE-STRUCTURED-LOCATION;VALUE=URI;X-ADDRESS=Art and Soul Arts District 1323 State Street Santa Barbara 93108 United States;X-APPLE-RADIUS=500;X-TITLE=1323 State Street:geo:-119.706749,34.4246753
END:VEVENT
BEGIN:VEVENT
DTSTART;TZID=America/Los_Angeles:20250605T050000
DTEND;TZID=America/Los_Angeles:20250605T190000
DTSTAMP:20260419T074346
CREATED:20250530T235105Z
LAST-MODIFIED:20250530T235105Z
UID:10023950-1749099600-1749150000@www.noozhawk.com
SUMMARY:Blue Skies and Shimmering Seas Preview Weekend with Brad Betts
DESCRIPTION:Join Art & Soul for a special Preview Weekend\, June 5–8\, with celebrated painter Brad Betts\, Signature Member of ASMA. Festivities begin Thursday with an exclusive Meet & Greet from 4–5 PM\, followed by the First Thursday Art Walk from 5–8 PM\, featuring live steel drum music by Ben Betts and wines by Brander Winery. On Friday evening\, enjoy an Artist Talk and live painting demo from 5–7 PM. Then\, take part in guided plein air painting sessions with the artist along Santa Barbara’s stunning coastline on Saturday and Sunday. A unique opportunity to meet the artist\, experience his process\, and soak in the beauty that inspires his work.
URL:https://www.noozhawk.com/calendar-old/blue-skies-and-shimmering-seas-preview-weekend-with-brad-betts/2025-06-05/
LOCATION:Art and Soul Arts District\, 1323 State Street\, Santa Barbara\, 93108\, United States
ATTACH;FMTTYPE=image/jpeg:https://www.noozhawk.com/wp-content/uploads/2025/05/BradBetts-scaled.jpeg
ORGANIZER;CN="Art &amp%3B Soul":MAILTO:artandsoulsb@gmail.com
GEO:34.4246753;-119.706749
X-APPLE-STRUCTURED-LOCATION;VALUE=URI;X-ADDRESS=Art and Soul Arts District 1323 State Street Santa Barbara 93108 United States;X-APPLE-RADIUS=500;X-TITLE=1323 State Street:geo:-119.706749,34.4246753
END:VEVENT
BEGIN:VEVENT
DTSTART;TZID=America/Los_Angeles:20250517T100000
DTEND;TZID=America/Los_Angeles:20250517T120000
DTSTAMP:20260419T074346
CREATED:20250509T215849Z
LAST-MODIFIED:20250509T215849Z
UID:10023809-1747476000-1747483200@www.noozhawk.com
SUMMARY:Watercolor and Pressed Flowers Workshop at Art & Soul
DESCRIPTION:Embark on a journey to the whimsical world of artist Giuliana Mottin with Palma Colectiva at Art and Soul\, and learn how to use watercolor with pressed flowers. Giuliana will demonstrate how to make abstract shapes with watercolor\, how to press flowers and how to apply them to your own art work. For more details and to reserve your spot
URL:https://www.noozhawk.com/calendar-old/watercolor-and-pressed-flowers-workshop-at-art-soul/
LOCATION:Art and Soul Arts District\, 1323 State Street\, Santa Barbara\, 93108\, United States
ATTACH;FMTTYPE=image/jpeg:https://www.noozhawk.com/wp-content/uploads/2025/05/Giuliana-Watercolor-Workshop-scaled.jpg
ORGANIZER;CN="Art &amp%3B Soul":MAILTO:artandsoulsb@gmail.com
GEO:34.4246753;-119.706749
X-APPLE-STRUCTURED-LOCATION;VALUE=URI;X-ADDRESS=Art and Soul Arts District 1323 State Street Santa Barbara 93108 United States;X-APPLE-RADIUS=500;X-TITLE=1323 State Street:geo:-119.706749,34.4246753
END:VEVENT
BEGIN:VEVENT
DTSTART;TZID=America/Los_Angeles:20250425T170000
DTEND;TZID=America/Los_Angeles:20250425T190000
DTSTAMP:20260419T074346
CREATED:20250328T235814Z
LAST-MODIFIED:20250328T235814Z
UID:10018724-1745600400-1745607600@www.noozhawk.com
SUMMARY:Artist Talk at Art & Soul on State Street
DESCRIPTION:Join us at Art & Soul on State Street for an engaging artist talk with Mick Victor\, part of our Conversations with Artists series. In this intimate discussion\, Victor will share insights into his creative process\, the inspirations behind The Tea Papers\, and how his multidisciplinary approach shapes his work. Attendees will have the opportunity to ask questions and connect with the artist in a relaxed gallery setting.
URL:https://www.noozhawk.com/calendar-old/artist-talk-at-art-soul-on-state-street-2/
LOCATION:Art & Soul\, State Street\, Santa Barbara\, C\, 93101\, United States
ATTACH;FMTTYPE=image/png:https://www.noozhawk.com/wp-content/uploads/2025/03/Mick-Victor.png
ORGANIZER;CN="Art &amp%3B Soul":MAILTO:artandsoulsb@gmail.com
GEO:34.4246753;-119.706749
X-APPLE-STRUCTURED-LOCATION;VALUE=URI;X-ADDRESS=Art & Soul State Street Santa Barbara C 93101 United States;X-APPLE-RADIUS=500;X-TITLE=State Street:geo:-119.706749,34.4246753
END:VEVENT
BEGIN:VEVENT
DTSTART;TZID=America/Los_Angeles:20250422T180000
DTEND;TZID=America/Los_Angeles:20250422T193000
DTSTAMP:20260419T074346
CREATED:20250328T235402Z
LAST-MODIFIED:20250328T235402Z
UID:10018723-1745344800-1745350200@www.noozhawk.com
SUMMARY:Earth & Soul: A Celebration of Connection and Nature
DESCRIPTION:Join us for a special Earth Day Celebration with Sacred Sisters as we honor the profound connection between nature\, ourselves\, and the four elements—fire\, air\, water\, and earth. This immersive experience invites you on a journey of creativity\, movement\, and sound\, designed to awaken the senses and restore harmony within. Space is limited\, please RSVP.
URL:https://www.noozhawk.com/calendar-old/earth-soul-a-celebration-of-connection-and-nature/
LOCATION:Art & Soul\, State Street\, Santa Barbara\, C\, 93101\, United States
ATTACH;FMTTYPE=image/png:https://www.noozhawk.com/wp-content/uploads/2025/03/Sacred-Sisters.png
ORGANIZER;CN="Art &amp%3B Soul":MAILTO:artandsoulsb@gmail.com
GEO:34.4246753;-119.706749
X-APPLE-STRUCTURED-LOCATION;VALUE=URI;X-ADDRESS=Art & Soul State Street Santa Barbara C 93101 United States;X-APPLE-RADIUS=500;X-TITLE=State Street:geo:-119.706749,34.4246753
END:VEVENT
END:VCALENDAR