BEGIN:VCALENDAR
VERSION:2.0
PRODID:-//Noozhawk - ECPv6.15.20//NONSGML v1.0//EN
CALSCALE:GREGORIAN
METHOD:PUBLISH
X-WR-CALNAME:Noozhawk
X-ORIGINAL-URL:https://www.noozhawk.com
X-WR-CALDESC:Events for Noozhawk
REFRESH-INTERVAL;VALUE=DURATION:PT1H
X-Robots-Tag:noindex
X-PUBLISHED-TTL:PT1H
BEGIN:VTIMEZONE
TZID:America/Los_Angeles
BEGIN:DAYLIGHT
TZOFFSETFROM:-0800
TZOFFSETTO:-0700
TZNAME:PDT
DTSTART:20240310T100000
END:DAYLIGHT
BEGIN:STANDARD
TZOFFSETFROM:-0700
TZOFFSETTO:-0800
TZNAME:PST
DTSTART:20241103T090000
END:STANDARD
BEGIN:DAYLIGHT
TZOFFSETFROM:-0800
TZOFFSETTO:-0700
TZNAME:PDT
DTSTART:20250309T100000
END:DAYLIGHT
BEGIN:STANDARD
TZOFFSETFROM:-0700
TZOFFSETTO:-0800
TZNAME:PST
DTSTART:20251102T090000
END:STANDARD
BEGIN:DAYLIGHT
TZOFFSETFROM:-0800
TZOFFSETTO:-0700
TZNAME:PDT
DTSTART:20260308T100000
END:DAYLIGHT
BEGIN:STANDARD
TZOFFSETFROM:-0700
TZOFFSETTO:-0800
TZNAME:PST
DTSTART:20261101T090000
END:STANDARD
END:VTIMEZONE
BEGIN:VEVENT
DTSTART;TZID=America/Los_Angeles:20250423T183000
DTEND;TZID=America/Los_Angeles:20250423T200000
DTSTAMP:20260420T051401
CREATED:20250416T190254Z
LAST-MODIFIED:20250416T190254Z
UID:10023612-1745433000-1745438400@www.noozhawk.com
SUMMARY:Pub Quiz with Maddy @ Validation Ale!!!
DESCRIPTION:Join Maddy for a FREE raffle with loads of prizes and a little fun Pub Quiz! Every Wednesday at 6:30 pm. Bring a team or play solo! First round winners win a free round of drinks! Validation Ale features house made beer\, cider and spirits as well as local wine and amazing food. All ages welcome\, you don’t have to be good at trivia!!!Prizes include: Fine jewelry by Thomas Rhodes\, Fringe\, and Jim Koorey\, gift cards from Dylan Star\, Joe’s Cafe\, Biergarten\, Sandbar\, Petra Cafe\, Loveworn\, Paradise Springs\, Taco Tour Santa Barbara\, Melville\, J. Wilkes & Sharkeez!!!
URL:https://www.noozhawk.com/calendar-old/pub-quiz-with-maddy-validation-ale-33/2025-04-23/
LOCATION:Validation Ale\, 102 E. Yananali\, Santa Barbara\, CA\, 93103\, United States
ATTACH;FMTTYPE=image/jpeg:https://www.noozhawk.com/wp-content/uploads/2025/04/VA-Generic-Flyer1920-x-1080-px.jpg
ORGANIZER;CN="Maddy Fossatti":MAILTO:triviawithmaddy@gmail.com
END:VEVENT
BEGIN:VEVENT
DTSTART;TZID=America/Los_Angeles:20250423T183000
DTEND;TZID=America/Los_Angeles:20250423T200000
DTSTAMP:20260420T051401
CREATED:20250121T031413Z
LAST-MODIFIED:20250121T031413Z
UID:10017717-1745433000-1745438400@www.noozhawk.com
SUMMARY:Pub Quiz with Maddy @Validation Ale!!!
DESCRIPTION:Pub Quiz with Maddy at Validation Ale! Join your host\, Maddy Fossatti (Landshark\, Brewhouse\, Winner of the 2022 Santa Barbara Laugh Festival) for pub style quiz every Wednesday at 6:30. Test your knowledge solo or bring a team! Free to play! Great drinks\, food\, prizes and tons of fun!!! See you there!!!\n\n\nPrizes include:  Fine jewelry by Thomas Rhodes\, Fringe\, and Jim Koorey\, gift cards from Dylan Star\, Joe’s Cafe\, Taco Tour Santa Barbara\, Biergarten\, Sandbar\, Loveworn\, Paradise Springs\, Melville and J. Wilkes!!!
URL:https://www.noozhawk.com/calendar-old/pub-quiz-with-maddy-validation-ale-32/2025-04-23/
LOCATION:Validation Ale\, 102 E. Yananali\, Santa Barbara\, CA\, 93103\, United States
ATTACH;FMTTYPE=image/png:https://www.noozhawk.com/wp-content/uploads/2025/01/New-VA-generic-flyer-1.png
ORGANIZER;CN="Maddy Fossatti":MAILTO:triviawithmaddy@gmail.com
END:VEVENT
END:VCALENDAR