BEGIN:VCALENDAR
VERSION:2.0
PRODID:-//Noozhawk - ECPv6.15.20//NONSGML v1.0//EN
CALSCALE:GREGORIAN
METHOD:PUBLISH
X-WR-CALNAME:Noozhawk
X-ORIGINAL-URL:https://www.noozhawk.com
X-WR-CALDESC:Events for Noozhawk
REFRESH-INTERVAL;VALUE=DURATION:PT1H
X-Robots-Tag:noindex
X-PUBLISHED-TTL:PT1H
BEGIN:VTIMEZONE
TZID:America/Los_Angeles
BEGIN:DAYLIGHT
TZOFFSETFROM:-0800
TZOFFSETTO:-0700
TZNAME:PDT
DTSTART:20240310T100000
END:DAYLIGHT
BEGIN:STANDARD
TZOFFSETFROM:-0700
TZOFFSETTO:-0800
TZNAME:PST
DTSTART:20241103T090000
END:STANDARD
BEGIN:DAYLIGHT
TZOFFSETFROM:-0800
TZOFFSETTO:-0700
TZNAME:PDT
DTSTART:20250309T100000
END:DAYLIGHT
BEGIN:STANDARD
TZOFFSETFROM:-0700
TZOFFSETTO:-0800
TZNAME:PST
DTSTART:20251102T090000
END:STANDARD
BEGIN:DAYLIGHT
TZOFFSETFROM:-0800
TZOFFSETTO:-0700
TZNAME:PDT
DTSTART:20260308T100000
END:DAYLIGHT
BEGIN:STANDARD
TZOFFSETFROM:-0700
TZOFFSETTO:-0800
TZNAME:PST
DTSTART:20261101T090000
END:STANDARD
END:VTIMEZONE
BEGIN:VEVENT
DTSTART;TZID=America/Los_Angeles:20250518T150000
DTEND;TZID=America/Los_Angeles:20250518T170000
DTSTAMP:20260420T204415
CREATED:20250407T200512Z
LAST-MODIFIED:20250407T200513Z
UID:10018808-1747580400-1747587600@www.noozhawk.com
SUMMARY:Santa Barbara Master Chorale presents Gems of Time
DESCRIPTION:On Saturday May 17 at 7 p.m and Sunday\, May 18 at 3 p.m.\, the Master Chorale will present a concert entitled Gems of Time: Choral Masterworks through the Ages.  \n\n\nJourney through the evolution of choral music with a carefully curated program that highlights iconic masterworks from each major era\, from Medieval to Contemporary. This concert not only showcases timeless choral gems by Handel\, Mozart\, Brahms\, Duruflé\, Randall Thompson\, and more\, but also illustrates the rich progression of musical style and expression across the centuries.
URL:https://www.noozhawk.com/calendar-old/santa-barbara-master-chorale-presents-gems-of-time-2/
LOCATION:First United Methodist Church Santa Barbara\, 305 E Anapamu\, Santa Barbara\, CA\, 93101\, United States
ATTACH;FMTTYPE=image/jpeg:https://www.noozhawk.com/wp-content/uploads/2025/04/SBMC_Spring-Concert_Social-Post_1080x1080-1-1.jpg
ORGANIZER;CN="santa barbara master chorale":MAILTO:sbmasterchorale@gmail.com
END:VEVENT
BEGIN:VEVENT
DTSTART;TZID=America/Los_Angeles:20250517T190000
DTEND;TZID=America/Los_Angeles:20250517T210000
DTSTAMP:20260420T204415
CREATED:20250407T200250Z
LAST-MODIFIED:20250407T200250Z
UID:10018806-1747508400-1747515600@www.noozhawk.com
SUMMARY:Santa Barbara Master Chorale presents Gems of Time
DESCRIPTION:On Saturday May 17 at 7 p.m and Sunday\, May 18 at 3 p.m.\, the Master Chorale will present a concert entitled Gems of Time: Choral Masterworks through the Ages.  \n\n\nJourney through the evolution of choral music with a carefully curated program that highlights iconic masterworks from each major era\, from Medieval to Contemporary. This concert not only showcases timeless choral gems by Handel\, Mozart\, Brahms\, Duruflé\, Randall Thompson\, and more\, but also illustrates the rich progression of musical style and expression across the centuries.
URL:https://www.noozhawk.com/calendar-old/santa-barbara-master-chorale-presents-gems-of-time/
LOCATION:First United Methodist Church Santa Barbara\, 305 E Anapamu\, Santa Barbara\, CA\, 93101\, United States
ATTACH;FMTTYPE=image/jpeg:https://www.noozhawk.com/wp-content/uploads/2025/04/SBMC_Spring-Concert_Social-Post_1080x1080-1.jpg
ORGANIZER;CN="santa barbara master chorale":MAILTO:sbmasterchorale@gmail.com
END:VEVENT
END:VCALENDAR