BEGIN:VCALENDAR
VERSION:2.0
PRODID:-//Noozhawk - ECPv6.15.20//NONSGML v1.0//EN
CALSCALE:GREGORIAN
METHOD:PUBLISH
X-ORIGINAL-URL:https://www.noozhawk.com
X-WR-CALDESC:Events for Noozhawk
REFRESH-INTERVAL;VALUE=DURATION:PT1H
X-Robots-Tag:noindex
X-PUBLISHED-TTL:PT1H
BEGIN:VTIMEZONE
TZID:America/Los_Angeles
BEGIN:DAYLIGHT
TZOFFSETFROM:-0800
TZOFFSETTO:-0700
TZNAME:PDT
DTSTART:20240310T100000
END:DAYLIGHT
BEGIN:STANDARD
TZOFFSETFROM:-0700
TZOFFSETTO:-0800
TZNAME:PST
DTSTART:20241103T090000
END:STANDARD
BEGIN:DAYLIGHT
TZOFFSETFROM:-0800
TZOFFSETTO:-0700
TZNAME:PDT
DTSTART:20250309T100000
END:DAYLIGHT
BEGIN:STANDARD
TZOFFSETFROM:-0700
TZOFFSETTO:-0800
TZNAME:PST
DTSTART:20251102T090000
END:STANDARD
BEGIN:DAYLIGHT
TZOFFSETFROM:-0800
TZOFFSETTO:-0700
TZNAME:PDT
DTSTART:20260308T100000
END:DAYLIGHT
BEGIN:STANDARD
TZOFFSETFROM:-0700
TZOFFSETTO:-0800
TZNAME:PST
DTSTART:20261101T090000
END:STANDARD
END:VTIMEZONE
BEGIN:VEVENT
DTSTART;TZID=America/Los_Angeles:20251011T180000
DTEND;TZID=America/Los_Angeles:20251011T200000
DTSTAMP:20260423T190449
CREATED:20250624T170630Z
LAST-MODIFIED:20250624T170630Z
UID:10024407-1760205600-1760212800@www.noozhawk.com
SUMMARY:Joe Milazzo Western Art Exhibition Show And Sale
DESCRIPTION:Renowned Western artist Joe Milazzo’s intricate pen-and-ink and charcoal drawings will be on display at the Santa Ynez Valley Historical Museum beginning October 11. The title of the show is “Blessed: The Western Way of Life.” Milazzo’s drawings depict ranch life\, historical figures\, and sweeping landscapes. His subjects range from cowboys and horses to iconic Western scenes. Milazzo’s artwork has been showcased in prestigious locations\, including the Ronald Reagan Center in Santa Barbara. A October 11 opening reception with the artist is from 6:00 p.m. to 8:00 p.m. The museum will be open to the public on Sunday\, October 12\, from 11:30 a.m. to 2 p.m. with Milazzo in attendance. A limited number of Milazzo’s works will be on sale. For tickets to the opening reception\, go to www.santaynezmuseum.org/joe-milazzo-art-exhibition-sale.
URL:https://www.noozhawk.com/calendar-old/joe-milazzo-western-art-exhibition-show-and-sale/
LOCATION:Santa Ynez Valley Historical Museum & Parks-Janeway Carriage House\, Sagunto Street\, Santa Ynez\, CA\, 93460\, United States
ATTACH;FMTTYPE=image/jpeg:https://www.noozhawk.com/wp-content/uploads/2025/06/Joe-Milazzo-sketching.jpg
ORGANIZER;CN="Santa Ynez Valley Historical Museum &amp%3B Parks-Janeway Carriage House":MAILTO:info@santaynezmuseum.org
GEO:34.6125681;-120.0801991
X-APPLE-STRUCTURED-LOCATION;VALUE=URI;X-ADDRESS=Santa Ynez Valley Historical Museum & Parks-Janeway Carriage House Sagunto Street Santa Ynez CA 93460 United States;X-APPLE-RADIUS=500;X-TITLE=Sagunto Street:geo:-120.0801991,34.6125681
END:VEVENT
BEGIN:VEVENT
DTSTART;TZID=America/Los_Angeles:20250531T163000
DTEND;TZID=America/Los_Angeles:20250531T183000
DTSTAMP:20260423T190449
CREATED:20250529T154329Z
LAST-MODIFIED:20250529T154329Z
UID:10023943-1748709000-1748716200@www.noozhawk.com
SUMMARY:Santa Ynez Valley Historical Museum To Host Closing Reception for  Channing Peake Art Exhibit
DESCRIPTION:The Santa Ynez Valley Historical Museum will host a closing reception for “Breaking Boundaries: Full Circle Back to the Santa Ynez Valley\,” an exhibition featuring artwork by renowned artist Channing Peake\, on Saturday\, May 31\, from 4:30 p.m. to 6:30 p.m.\n\n\nThose who attend the reception will enjoy live music\, wines from Peake Ranch Winery and food from Ellie’s Catering Company.\nLocal community members loaned their Channing Peake’s artwork to the exhibition\, which is ending after an eight-month-long run at the museum. \n\n\nA limited amount of Peake’s artwork is for sale\, with all proceeds going to the museum.\n\n\nReception tickets are $15 for museum members and $30 for nonmembers. Tickets can be purchased online at https://bit.ly/43aB2na.\nFor more information about the museum\, go to https://www.santaynezmuseum.org.
URL:https://www.noozhawk.com/calendar-old/santa-ynez-valley-historical-museum-to-host-closing-reception-for-channing-peake-art-exhibit/
LOCATION:Santa Ynez Valley Historical Museum & Parks-Janeway Carriage House\, Sagunto Street\, Santa Ynez\, CA\, 93460\, United States
ATTACH;FMTTYPE=image/jpeg:https://www.noozhawk.com/wp-content/uploads/2025/05/Bull-Rider-and-Rodeo-Clown.jpg
ORGANIZER;CN="Santa Ynez Valley Historical Museum &amp%3B Parks-Janeway Carriage House":MAILTO:info@santaynezmuseum.org
GEO:34.6125681;-120.0801991
X-APPLE-STRUCTURED-LOCATION;VALUE=URI;X-ADDRESS=Santa Ynez Valley Historical Museum & Parks-Janeway Carriage House Sagunto Street Santa Ynez CA 93460 United States;X-APPLE-RADIUS=500;X-TITLE=Sagunto Street:geo:-120.0801991,34.6125681
END:VEVENT
BEGIN:VEVENT
DTSTART;TZID=America/Los_Angeles:20250531T163000
DTEND;TZID=America/Los_Angeles:20250531T183000
DTSTAMP:20260423T190449
CREATED:20250515T181837Z
LAST-MODIFIED:20250515T181837Z
UID:10023847-1748709000-1748716200@www.noozhawk.com
SUMMARY:Closing Reception for  Channing Peake Art Exhibit at Santa Ynez Valley Historical Museum
DESCRIPTION:The Santa Ynez Valley Historical Museum will host a closing reception for “Breaking Boundaries: Full Circle Back to the Santa Ynez Valley\,” an exhibition featuring artwork by renowned artist Channing Peake\, on Saturday\, May 31\, from 4:30 p.m. to 6:30 p.m.\n\n\nThose who attend the reception will enjoy live music\, wines from Peake Ranch Winery and food from Ellie’s Catering Company.\nLocal community members loaned their Channing Peake’s artwork to the exhibition\, which is ending after an eight-month-long run at the museum. \n\n\nA limited amount of Peake’s artwork is for sale\, with all proceeds going to the museum.\n\n\nReception tickets are $15 for museum members and $30 for nonmembers. Tickets can be purchased online at https://bit.ly/43aB2na.\nFor more information about the museum\, go to https://www.santaynezmuseum.org.
URL:https://www.noozhawk.com/calendar-old/closing-reception-for-channing-peake-art-exhibit-at-santa-ynez-valley-historical-museum/
LOCATION:Santa Ynez Valley Historical Museum\, Sagunto Street\, Santa Ynez\, California\, 93460\, United States
ATTACH;FMTTYPE=image/jpeg:https://www.noozhawk.com/wp-content/uploads/2025/05/Bull-Rider-and-Rodeo-Clown-small.jpg
ORGANIZER;CN="Santa Ynez Valley Historical Museum &amp%3B Parks-Janeway Carriage House":MAILTO:info@santaynezmuseum.org
GEO:34.6125681;-120.0801991
X-APPLE-STRUCTURED-LOCATION;VALUE=URI;X-ADDRESS=Santa Ynez Valley Historical Museum Sagunto Street Santa Ynez California 93460 United States;X-APPLE-RADIUS=500;X-TITLE=Sagunto Street:geo:-120.0801991,34.6125681
END:VEVENT
BEGIN:VEVENT
DTSTART;TZID=America/Los_Angeles:20250516T120000
DTEND;TZID=America/Los_Angeles:20250516T170000
DTSTAMP:20260423T190449
CREATED:20250430T180010Z
LAST-MODIFIED:20250430T180010Z
UID:10023725-1747396800-1747414800@www.noozhawk.com
SUMMARY:Day On The Farm: Santa Ynez Valley Historical Museum Tour With Babé Farms Pop-Up Market And Rancho Olivos Olive Oil Tasting
DESCRIPTION:The Santa Ynez Valley Historical Museum will offer special tours as part of the Santa Barbara Culinary Experience’s “Day On the Farm\,” Friday\, May 16\, from noon to 5 p.m.\n\n\nVisitors can explore the museum\, including the historic Parks-Janeway Carriage House\, while learning about the agricultural heritage of the Santa Ynez Valley. The event includes a tasting of Rancho Olivos olive oil in the open-air courtyard and an opportunity to sample and take home a free assortment of locally grown produce from a Babé Farms pop-up market. \n\n\nRancho Olivos farmers John Copeland and Shannon Casey\, plus representatives from Babé Farms\, will share stories about their farms and provide information about their agricultural and production practices.\n\n\nFor those interested in a more comprehensive experience\, the museum will conduct “History of Agriculture” tours at 1 p.m. and 3 p.m.\n\n \n\n\nTickets are $15 per person and can be purchased online at the Santa Barbara Culinary Experience website\, https://sbce.events/day-on-the-farm. Select the Santa Ynez Valley Historical Museum Tour option.
URL:https://www.noozhawk.com/calendar-old/day-on-the-farm-santa-ynez-valley-historical-museum-tour-with-babe-farms-pop-up-market-and-rancho-olivos-olive-oil-tasting/
LOCATION:Santa Ynez Valley Historical Museum\, Sagunto Street\, Santa Ynez\, California\, 93460\, United States
ATTACH;FMTTYPE=image/jpeg:https://www.noozhawk.com/wp-content/uploads/2025/04/Babe-Farms-small.jpg
ORGANIZER;CN="Santa Ynez Valley Historical Museum &amp%3B Parks-Janeway Carriage House":MAILTO:info@santaynezmuseum.org
GEO:34.6125681;-120.0801991
X-APPLE-STRUCTURED-LOCATION;VALUE=URI;X-ADDRESS=Santa Ynez Valley Historical Museum Sagunto Street Santa Ynez California 93460 United States;X-APPLE-RADIUS=500;X-TITLE=Sagunto Street:geo:-120.0801991,34.6125681
END:VEVENT
END:VCALENDAR