BEGIN:VCALENDAR
VERSION:2.0
PRODID:-//Noozhawk - ECPv6.15.20//NONSGML v1.0//EN
CALSCALE:GREGORIAN
METHOD:PUBLISH
X-ORIGINAL-URL:https://www.noozhawk.com
X-WR-CALDESC:Events for Noozhawk
REFRESH-INTERVAL;VALUE=DURATION:PT1H
X-Robots-Tag:noindex
X-PUBLISHED-TTL:PT1H
BEGIN:VTIMEZONE
TZID:America/Los_Angeles
BEGIN:DAYLIGHT
TZOFFSETFROM:-0800
TZOFFSETTO:-0700
TZNAME:PDT
DTSTART:20240310T100000
END:DAYLIGHT
BEGIN:STANDARD
TZOFFSETFROM:-0700
TZOFFSETTO:-0800
TZNAME:PST
DTSTART:20241103T090000
END:STANDARD
BEGIN:DAYLIGHT
TZOFFSETFROM:-0800
TZOFFSETTO:-0700
TZNAME:PDT
DTSTART:20250309T100000
END:DAYLIGHT
BEGIN:STANDARD
TZOFFSETFROM:-0700
TZOFFSETTO:-0800
TZNAME:PST
DTSTART:20251102T090000
END:STANDARD
BEGIN:DAYLIGHT
TZOFFSETFROM:-0800
TZOFFSETTO:-0700
TZNAME:PDT
DTSTART:20260308T100000
END:DAYLIGHT
BEGIN:STANDARD
TZOFFSETFROM:-0700
TZOFFSETTO:-0800
TZNAME:PST
DTSTART:20261101T090000
END:STANDARD
END:VTIMEZONE
BEGIN:VEVENT
DTSTART;VALUE=DATE:20250721
DTEND;VALUE=DATE:20250724
DTSTAMP:20260423T185423
CREATED:20241204T123636Z
LAST-MODIFIED:20241204T123636Z
UID:10016903-1753056000-1753315199@www.noozhawk.com
SUMMARY:3rd International Summit on Civil\, Structural and Environmental Engineering
DESCRIPTION:Spectrum Conferences cordially invites you to its 3rd International Summit on Civil\, Structural and Environmental Engineering (ISCSEE2025)\, a premier event focusing on the latest developments in the field of Engineering which is going to be held in Frankfurt\, Germany during July 21-23\, 2025.\nThe ISCSEE2023 conference enjoyed a triumphant run in Rome\, Italy on March 2023\, featuring a stellar lineup of speakers and achieving resounding success. Following this\, ISCSEE2024 triumphantly unfolded in Florence\, Italy on March\, 2024\, showcasing an outstanding roster of speakers. Looking ahead to 2025\, our event will once again unite engineering professionals\, researchers\, and experts worldwide to explore the latest advancements in Civil\, Engineering. Attendees can anticipate a day filled with education\, networking\, and knowledge exchange\, offering a valuable opportunity to learn\, share ideas\, establish networks\, and foster collaborations.\nJoin us for an enriching experience that promises to shape the future of Civil Engineering!!!
URL:https://www.noozhawk.com/calendar-old/3rd-international-summit-on-civil-structural-and-environmental-engineering/
LOCATION:Frankfurt\, Germany\, Frankfurt\, Frankfurt\, Frankfurt\, 60326\, Germany
ATTACH;FMTTYPE=image/jpeg:https://www.noozhawk.com/wp-content/uploads/2024/12/ISCSEE2025-Poster-compressed--scaled.jpg
ORGANIZER;CN="Spectrum":MAILTO:secretary@civilsummit.com
GEO:50.1100897;8.6822492
X-APPLE-STRUCTURED-LOCATION;VALUE=URI;X-ADDRESS=Frankfurt Germany Frankfurt Frankfurt Frankfurt 60326 Germany;X-APPLE-RADIUS=500;X-TITLE=Frankfurt:geo:8.6822492,50.1100897
END:VEVENT
END:VCALENDAR