BEGIN:VCALENDAR
VERSION:2.0
PRODID:-//Noozhawk - ECPv6.15.20//NONSGML v1.0//EN
CALSCALE:GREGORIAN
METHOD:PUBLISH
X-ORIGINAL-URL:https://www.noozhawk.com
X-WR-CALDESC:Events for Noozhawk
REFRESH-INTERVAL;VALUE=DURATION:PT1H
X-Robots-Tag:noindex
X-PUBLISHED-TTL:PT1H
BEGIN:VTIMEZONE
TZID:America/Los_Angeles
BEGIN:DAYLIGHT
TZOFFSETFROM:-0800
TZOFFSETTO:-0700
TZNAME:PDT
DTSTART:20240310T100000
END:DAYLIGHT
BEGIN:STANDARD
TZOFFSETFROM:-0700
TZOFFSETTO:-0800
TZNAME:PST
DTSTART:20241103T090000
END:STANDARD
BEGIN:DAYLIGHT
TZOFFSETFROM:-0800
TZOFFSETTO:-0700
TZNAME:PDT
DTSTART:20250309T100000
END:DAYLIGHT
BEGIN:STANDARD
TZOFFSETFROM:-0700
TZOFFSETTO:-0800
TZNAME:PST
DTSTART:20251102T090000
END:STANDARD
BEGIN:DAYLIGHT
TZOFFSETFROM:-0800
TZOFFSETTO:-0700
TZNAME:PDT
DTSTART:20260308T100000
END:DAYLIGHT
BEGIN:STANDARD
TZOFFSETFROM:-0700
TZOFFSETTO:-0800
TZNAME:PST
DTSTART:20261101T090000
END:STANDARD
END:VTIMEZONE
BEGIN:VEVENT
DTSTART;TZID=America/Los_Angeles:20250607T140000
DTEND;TZID=America/Los_Angeles:20250607T150000
DTSTAMP:20260420T162808
CREATED:20250511T225043Z
LAST-MODIFIED:20250511T225043Z
UID:10023827-1749304800-1749308400@www.noozhawk.com
SUMMARY:Santa Ynez Valley Wind Ensemble SUMMER CONCERT
DESCRIPTION:The Santa Ynez Valley Wind Ensemble has entertained you at local parades\, holiday festivals\, and Veterans’ ceremonies. You won’t want to miss their lively Summer Concert on the beautiful Skytt Terrace at Elverhøj Museum. Bring a picnic basket\, and a blanket or lawn chairs! Wine will be available by donation and will benefit the Museum. You’ll be sure to leave with a bounce in your step and a smile on your face! Rumor has it\, there are some Bruno Mars tunes on the set list! Come on out for a great summer concert on the beautiful Skytt Terrace at Elverhøj Museum of History and Art!
URL:https://www.noozhawk.com/calendar-old/santa-ynez-valley-wind-ensemble-summer-concert/
LOCATION:1624 Elverhoy Way\, Solvang\, CA 93463\, 1624 Elverhoy Way\, Solvang\, CA\, 93463\, United States
GEO:34.5922914;-120.1430299
X-APPLE-STRUCTURED-LOCATION;VALUE=URI;X-ADDRESS=1624 Elverhoy Way Solvang CA 93463 1624 Elverhoy Way Solvang CA 93463 United States;X-APPLE-RADIUS=500;X-TITLE=1624 Elverhoy Way:geo:-120.1430299,34.5922914
END:VEVENT
END:VCALENDAR