BEGIN:VCALENDAR
VERSION:2.0
PRODID:-//Noozhawk - ECPv6.15.20//NONSGML v1.0//EN
CALSCALE:GREGORIAN
METHOD:PUBLISH
X-WR-CALNAME:Noozhawk
X-ORIGINAL-URL:https://www.noozhawk.com
X-WR-CALDESC:Events for Noozhawk
REFRESH-INTERVAL;VALUE=DURATION:PT1H
X-Robots-Tag:noindex
X-PUBLISHED-TTL:PT1H
BEGIN:VTIMEZONE
TZID:America/Los_Angeles
BEGIN:DAYLIGHT
TZOFFSETFROM:-0800
TZOFFSETTO:-0700
TZNAME:PDT
DTSTART:20240310T100000
END:DAYLIGHT
BEGIN:STANDARD
TZOFFSETFROM:-0700
TZOFFSETTO:-0800
TZNAME:PST
DTSTART:20241103T090000
END:STANDARD
BEGIN:DAYLIGHT
TZOFFSETFROM:-0800
TZOFFSETTO:-0700
TZNAME:PDT
DTSTART:20250309T100000
END:DAYLIGHT
BEGIN:STANDARD
TZOFFSETFROM:-0700
TZOFFSETTO:-0800
TZNAME:PST
DTSTART:20251102T090000
END:STANDARD
BEGIN:DAYLIGHT
TZOFFSETFROM:-0800
TZOFFSETTO:-0700
TZNAME:PDT
DTSTART:20260308T100000
END:DAYLIGHT
BEGIN:STANDARD
TZOFFSETFROM:-0700
TZOFFSETTO:-0800
TZNAME:PST
DTSTART:20261101T090000
END:STANDARD
END:VTIMEZONE
BEGIN:VEVENT
DTSTART;VALUE=DATE:20251102
DTEND;VALUE=DATE:20251105
DTSTAMP:20260420T123200
CREATED:20250118T095318Z
LAST-MODIFIED:20250118T095318Z
UID:10017702-1762084800-1762257599@www.noozhawk.com
SUMMARY:3rd International Conference on Cancer and Breast Cancer Treatment
DESCRIPTION:Join the 3rd International Conference on Cancer and Breast Cancer Treatment\nWe are excited to invite researchers\, therapists\, healthcare professionals\, and cancer science enthusiasts worldwide to the “3rd International Conference on Cancer and Breast Cancer Treatment.” Happening on November 03-04\, 2025\, in Dubai\, UAE\, this forum explores the theme of “The Recent Revolution in Cancer and Breast Cancer Treatment: Advancing Medicine and Hope” The conference offers various sessions\, including keynotes\, workshops\, posters\, video presentations\, e-posters\, and exhibitor showcases at the Cancer and Breast Cancer Treatment Conference.\nFor those unable to attend in person\, the Cancer and Breast Cancer Treatment Webinar\, scheduled for November 10-11\, 2025\, via Zoom in Dubai (GMT+4)\, provides an excellent opportunity to participate remotely. Don’t miss this chance to contribute to the global dialogue on cancer and breast cancer treatment!
URL:https://www.noozhawk.com/calendar-old/3rd-international-conference-on-cancer-and-breast-cancer-treatment-2/
LOCATION:: 2 27th St – Port Saeed – Deira District – Dubai – United Arab Emirates\, 27th Street\, Dubai\, UAE\, -\, United Arab Emirates
ATTACH;FMTTYPE=image/jpeg:https://www.noozhawk.com/wp-content/uploads/2025/01/Bc-Pic.jpg
ORGANIZER;CN="Scientex Conferences":MAILTO:info@scientexconferences.com
GEO:25.2564617;55.3350026
X-APPLE-STRUCTURED-LOCATION;VALUE=URI;X-ADDRESS=: 2 27th St – Port Saeed – Deira District – Dubai – United Arab Emirates 27th Street Dubai UAE - United Arab Emirates;X-APPLE-RADIUS=500;X-TITLE=27th Street:geo:55.3350026,25.2564617
END:VEVENT
END:VCALENDAR