BEGIN:VCALENDAR
VERSION:2.0
PRODID:-//Noozhawk - ECPv6.15.20//NONSGML v1.0//EN
CALSCALE:GREGORIAN
METHOD:PUBLISH
X-WR-CALNAME:Noozhawk
X-ORIGINAL-URL:https://www.noozhawk.com
X-WR-CALDESC:Events for Noozhawk
REFRESH-INTERVAL;VALUE=DURATION:PT1H
X-Robots-Tag:noindex
X-PUBLISHED-TTL:PT1H
BEGIN:VTIMEZONE
TZID:America/Los_Angeles
BEGIN:DAYLIGHT
TZOFFSETFROM:-0800
TZOFFSETTO:-0700
TZNAME:PDT
DTSTART:20240310T100000
END:DAYLIGHT
BEGIN:STANDARD
TZOFFSETFROM:-0700
TZOFFSETTO:-0800
TZNAME:PST
DTSTART:20241103T090000
END:STANDARD
BEGIN:DAYLIGHT
TZOFFSETFROM:-0800
TZOFFSETTO:-0700
TZNAME:PDT
DTSTART:20250309T100000
END:DAYLIGHT
BEGIN:STANDARD
TZOFFSETFROM:-0700
TZOFFSETTO:-0800
TZNAME:PST
DTSTART:20251102T090000
END:STANDARD
BEGIN:DAYLIGHT
TZOFFSETFROM:-0800
TZOFFSETTO:-0700
TZNAME:PDT
DTSTART:20260308T100000
END:DAYLIGHT
BEGIN:STANDARD
TZOFFSETFROM:-0700
TZOFFSETTO:-0800
TZNAME:PST
DTSTART:20261101T090000
END:STANDARD
END:VTIMEZONE
BEGIN:VEVENT
DTSTART;TZID=America/Los_Angeles:20250618T173000
DTEND;TZID=America/Los_Angeles:20250618T190000
DTSTAMP:20260423T151140
CREATED:20250618T174742Z
LAST-MODIFIED:20250618T174742Z
UID:10024351-1750267800-1750273200@www.noozhawk.com
SUMMARY:Family Bingo
DESCRIPTION:Join us at the new Validation Ale location at 2840 De La Vina street every Wednesday at 5:30 to play Bingo with the whole family! Free to play\, fun prizes and fun for all. Did we mention all the tasty beverages and food available? Come have some fun and get out of the sun!
URL:https://www.noozhawk.com/calendar-old/family-bingo/2025-06-18/
LOCATION:2840 De La Vina St suite d\, Santa Barbara\, CA 93105\, 2840 De La Vina St suite d\, Santa Barbara\, United States
ATTACH;FMTTYPE=image/png:https://www.noozhawk.com/wp-content/uploads/2025/06/Green-and-Orange-Retro-Bingo-Night-Flyer.png
GEO:34.4375441;-119.7262199
X-APPLE-STRUCTURED-LOCATION;VALUE=URI;X-ADDRESS=2840 De La Vina St suite d Santa Barbara CA 93105 2840 De La Vina St suite d Santa Barbara United States;X-APPLE-RADIUS=500;X-TITLE=2840 De La Vina St suite d:geo:-119.7262199,34.4375441
END:VEVENT
END:VCALENDAR