BEGIN:VCALENDAR
VERSION:2.0
PRODID:-//Noozhawk - ECPv6.15.20//NONSGML v1.0//EN
CALSCALE:GREGORIAN
METHOD:PUBLISH
X-ORIGINAL-URL:https://www.noozhawk.com
X-WR-CALDESC:Events for Noozhawk
REFRESH-INTERVAL;VALUE=DURATION:PT1H
X-Robots-Tag:noindex
X-PUBLISHED-TTL:PT1H
BEGIN:VTIMEZONE
TZID:America/Los_Angeles
BEGIN:DAYLIGHT
TZOFFSETFROM:-0800
TZOFFSETTO:-0700
TZNAME:PDT
DTSTART:20240310T100000
END:DAYLIGHT
BEGIN:STANDARD
TZOFFSETFROM:-0700
TZOFFSETTO:-0800
TZNAME:PST
DTSTART:20241103T090000
END:STANDARD
BEGIN:DAYLIGHT
TZOFFSETFROM:-0800
TZOFFSETTO:-0700
TZNAME:PDT
DTSTART:20250309T100000
END:DAYLIGHT
BEGIN:STANDARD
TZOFFSETFROM:-0700
TZOFFSETTO:-0800
TZNAME:PST
DTSTART:20251102T090000
END:STANDARD
BEGIN:DAYLIGHT
TZOFFSETFROM:-0800
TZOFFSETTO:-0700
TZNAME:PDT
DTSTART:20260308T100000
END:DAYLIGHT
BEGIN:STANDARD
TZOFFSETFROM:-0700
TZOFFSETTO:-0800
TZNAME:PST
DTSTART:20261101T090000
END:STANDARD
END:VTIMEZONE
BEGIN:VEVENT
DTSTART;TZID=America/Los_Angeles:20250427T120000
DTEND;TZID=America/Los_Angeles:20250427T160000
DTSTAMP:20260424T144054
CREATED:20250412T193014Z
LAST-MODIFIED:20250412T193014Z
UID:10022029-1745755200-1745769600@www.noozhawk.com
SUMMARY:Carpinteria Festival of Books
DESCRIPTION:Find your next favorite read at the annual Carpinteria Festival of Books. More than 25 local-area authors across all genres and age groups will be on hand to share and sell their works.\nThe Carpinteria Festival of Books\, sponsored by the Carpinteria Writers Group\, Lynda Fairly Arts Center\, and Carpinteria Community Library will take place Sunday\, April 27\, 2025 in the Carpinteria Arts Center Courtyard. More than 25 local-area authors across all genres and age groups will be on hand to share and sell their works. The free festival runs from noon to 4:00 pm and is a rain-or-shine event.\nPreview the main event on Saturday\, April 26\, from 2-4pm with select author readings in the Carpinteria Library Community Room.\nFor more information visit https://carpinteriaartscenter.org/festivalofbooks
URL:https://www.noozhawk.com/calendar-old/carpinteria-festival-of-books-2/
LOCATION:Carpinteria Arts Center\, 865 Linden Avenue\, Carpinteria\, 93013\, United States
ATTACH;FMTTYPE=image/png:https://www.noozhawk.com/wp-content/uploads/2025/04/re-sized-FlyerFestivalofBooks2025.png
ORGANIZER;CN="Carpinteria Arts Center":MAILTO:info@carpinteriaartscenter.com
GEO:34.3981701;-119.5197432
X-APPLE-STRUCTURED-LOCATION;VALUE=URI;X-ADDRESS=Carpinteria Arts Center 865 Linden Avenue Carpinteria 93013 United States;X-APPLE-RADIUS=500;X-TITLE=865 Linden Avenue:geo:-119.5197432,34.3981701
END:VEVENT
END:VCALENDAR