BEGIN:VCALENDAR
VERSION:2.0
PRODID:-//Noozhawk - ECPv6.15.20//NONSGML v1.0//EN
CALSCALE:GREGORIAN
METHOD:PUBLISH
X-ORIGINAL-URL:https://www.noozhawk.com
X-WR-CALDESC:Events for Noozhawk
REFRESH-INTERVAL;VALUE=DURATION:PT1H
X-Robots-Tag:noindex
X-PUBLISHED-TTL:PT1H
BEGIN:VTIMEZONE
TZID:America/Los_Angeles
BEGIN:DAYLIGHT
TZOFFSETFROM:-0800
TZOFFSETTO:-0700
TZNAME:PDT
DTSTART:20240310T100000
END:DAYLIGHT
BEGIN:STANDARD
TZOFFSETFROM:-0700
TZOFFSETTO:-0800
TZNAME:PST
DTSTART:20241103T090000
END:STANDARD
BEGIN:DAYLIGHT
TZOFFSETFROM:-0800
TZOFFSETTO:-0700
TZNAME:PDT
DTSTART:20250309T100000
END:DAYLIGHT
BEGIN:STANDARD
TZOFFSETFROM:-0700
TZOFFSETTO:-0800
TZNAME:PST
DTSTART:20251102T090000
END:STANDARD
BEGIN:DAYLIGHT
TZOFFSETFROM:-0800
TZOFFSETTO:-0700
TZNAME:PDT
DTSTART:20260308T100000
END:DAYLIGHT
BEGIN:STANDARD
TZOFFSETFROM:-0700
TZOFFSETTO:-0800
TZNAME:PST
DTSTART:20261101T090000
END:STANDARD
END:VTIMEZONE
BEGIN:VEVENT
DTSTART;TZID=America/Los_Angeles:20250515T100000
DTEND;TZID=America/Los_Angeles:20250516T170000
DTSTAMP:20260422T043653
CREATED:20240619T124839Z
LAST-MODIFIED:20240619T124839Z
UID:10012833-1747303200-1747414800@www.noozhawk.com
SUMMARY:3rd International Conference on Neuroscience and Mental Health
DESCRIPTION:We are excited to announce the 3rd International Conference on Neuroscience and Mental Health\, scheduled to take place from May 15-16\, 2025\, in Dubai\, UAE. The conference theme\, “Innovations and Global Perspectives in Neuroscience and Mental Health\,” underscores the critical importance of exploring cutting-edge developments and diverse viewpoints in understanding and treating neurological and psychiatric disorders. Don’t miss this remarkable event that aims to bring together leading researchers\, clinicians\, and professionals from around the globe to share the latest advancements and innovations in the field of neuroscience and mental health.
URL:https://www.noozhawk.com/calendar-old/3rd-international-conference-on-neuroscience-and-mental-health/
LOCATION:City Seasons Suites Hotel\, City Seasons Suites Hotel\, 8th St\, Deira District\, إمارة دبيّ\, United Arab Emirates
ATTACH;FMTTYPE=image/jpeg:https://www.noozhawk.com/wp-content/uploads/2024/06/Neuroscience-Congress.jpg
ORGANIZER;CN="Scientex Conferences":MAILTO:info@scientexconferences.com
GEO:25.2545035;55.3310878
X-APPLE-STRUCTURED-LOCATION;VALUE=URI;X-ADDRESS=City Seasons Suites Hotel City Seasons Suites Hotel 8th St Deira District إمارة دبيّ United Arab Emirates;X-APPLE-RADIUS=500;X-TITLE=City Seasons Suites Hotel:geo:55.3310878,25.2545035
END:VEVENT
BEGIN:VEVENT
DTSTART;TZID=America/Los_Angeles:20250508T090000
DTEND;TZID=America/Los_Angeles:20250509T170000
DTSTAMP:20260422T043653
CREATED:20240709T064743Z
LAST-MODIFIED:20240709T064743Z
UID:10013454-1746694800-1746810000@www.noozhawk.com
SUMMARY:3rd International Conference on Global Healthcare and Medicine
DESCRIPTION:Scientex Conference is glad to invite you to “3rd International Conference on Global Healthcare and Medicine” scheduled to take place on May 08-09\, 2025 in the vibrant city of Dubai\, UAE. Our Conference Mainly focus on “To Explore the Advancement and Emerging Techniques in Healthcare”.\nVisit our official website for more information\, www.globalhealthcare.scientexconference.com\nContact us at healthcaresummit@scientexconferences.com or WhatsApp at +1(213)-550-1097
URL:https://www.noozhawk.com/calendar-old/3rd-international-conference-on-global-healthcare-and-medicine/
LOCATION:City Seasons Suites Hotel\, City Seasons Suites Hotel\, 8th St\, Deira District\, إمارة دبيّ\, United Arab Emirates
ATTACH;FMTTYPE=image/png:https://www.noozhawk.com/wp-content/uploads/2024/07/1200-600.png
ORGANIZER;CN="Scientex Conferences":MAILTO:info@scientexconferences.com
GEO:25.2545035;55.3310878
X-APPLE-STRUCTURED-LOCATION;VALUE=URI;X-ADDRESS=City Seasons Suites Hotel City Seasons Suites Hotel 8th St Deira District إمارة دبيّ United Arab Emirates;X-APPLE-RADIUS=500;X-TITLE=City Seasons Suites Hotel:geo:55.3310878,25.2545035
END:VEVENT
BEGIN:VEVENT
DTSTART;TZID=America/Los_Angeles:20250507T230000
DTEND;TZID=America/Los_Angeles:20250509T050000
DTSTAMP:20260422T043653
CREATED:20250206T075327Z
LAST-MODIFIED:20250206T075327Z
UID:10018258-1746658800-1746766800@www.noozhawk.com
SUMMARY:3rd International Conference on Primary Care and Public Healthcare
DESCRIPTION:We are excited to announce the 3rd International Conference on Primary Care and Public Healthcare\, taking place from May 08-09\, 2025\, in Dubai\, UAE. Following the success of our previous conferences\, this year’s theme is “Transforming Public Health: Innovative Approaches in Primary Care and Preventative Medicine.”\n\n\nThis event aims to address essential health needs throughout a person’s lifetime\, focusing on the critical role of innovation in reshaping healthcare. Attendees will include healthcare professionals\, researchers\, policymakers\, and industry experts\, creating a vibrant platform for knowledge exchange and collaboration.\n\n\nThis year’s theme highlights the critical role of innovation in reshaping the future of healthcare. The conference will provide a dynamic platform for healthcare professionals\, researchers\, policymakers\, and industry experts to exchange knowledge\, share pioneering research\, and explore cutting-edge developments. Highlighted topics for discussion will be Public Healthcare and Management\, Primary Care in the COVID-19 Pandemic\, Primary Care Fertility Treatments\, Global & Public Health Initiatives\, Quality in Primary Care and Epidemiology\, Reproductive and Sexual Health. Join us as we delve into these crucial areas and drive forward the future of primary care and public healthcare.\n\n\nOur previous conferences have set a high standard for engagement and collaboration\, thanks to the invaluable contributions of our speakers and participants. We encourage you to join us in this dynamic forum\, where you can share insights\, discuss groundbreaking research\, and explore the future of primary care.\n\n \n\n\nWe look forward to welcoming you to Dubai for this impactful event!
URL:https://www.noozhawk.com/calendar-old/3rd-international-conference-on-primary-care-and-public-healthcare/
LOCATION:City Seasons Suites Hotel\, City Seasons Suites Hotel\, 8th St\, Deira District\, إمارة دبيّ\, United Arab Emirates
ATTACH;FMTTYPE=image/jpeg:https://www.noozhawk.com/wp-content/uploads/2025/02/Primary-Care-Open-Graph-Protocol.jpg
ORGANIZER;CN="Scientex Conferences":MAILTO:info@scientexconferences.com
GEO:25.2545035;55.3310878
X-APPLE-STRUCTURED-LOCATION;VALUE=URI;X-ADDRESS=City Seasons Suites Hotel City Seasons Suites Hotel 8th St Deira District إمارة دبيّ United Arab Emirates;X-APPLE-RADIUS=500;X-TITLE=City Seasons Suites Hotel:geo:55.3310878,25.2545035
END:VEVENT
BEGIN:VEVENT
DTSTART;TZID=America/Los_Angeles:20250505T080000
DTEND;TZID=America/Los_Angeles:20250506T170000
DTSTAMP:20260422T043653
CREATED:20240614T124050Z
LAST-MODIFIED:20240614T124050Z
UID:10012788-1746432000-1746550800@www.noozhawk.com
SUMMARY:3rd International Conference on Heart and Cardiovascular Diseases
DESCRIPTION:Are you dedicated to expanding your knowledge of heart and cardiovascular research? If so\, the prestigious Heart Conference 2025 perfectly fits you!\nFollowing the successful completion of our first two series of Heart conferences in Dubai and Bangkok\, we are excited to announce the 3rd International Conference on Heart and Cardiovascular Diseases. This prestigious event will take place on May 05-06\, 2025\, in the dynamic city of Dubai\, UAE.\nOur theme for this year\, “Novel Progression Towards the Heart and Cardiovascular Diseases\,” emphasizes the latest advancements and innovations in the field of cardiology. This conference will bring together leading experts\, researchers\, and cardiology professionals from around the world to discuss cutting-edge research\, share best practices\, and explore new technologies in heart and cardiovascular disease management.\nHighlights of Heart Congress 2025:\n•	Exclusive Sessions & Panels: Explore the latest innovations in heart and cardiovascular diseases.\n•	Renowned Keynote Speakers: Gain insights from leading experts in cardiology.\n•	Active Investigator Lectures: Hear directly from those at the forefront of cardiac research.\n•	Speaker & Poster Forums: Discover cutting-edge advancements across all cardiology fields.\n•	Interactive Discussions: Engage in lively panel discussions and interactive sessions.\n•	Open Innovation Challenges: Participate in innovative problem-solving.\n•	Young Research & Career Development: Support and guidance for early-career researchers.\n•	Networking: Connect with professionals from over 50+ countries.\n•	Global Business Opportunities: Expand your network and explore new collaborations.\n•	Latest Product Showcases: Display and discover the newest cardiovascular products and affiliates.\nTogether\, let’s advance the field of cardiology\, improve patient care\, and shape the future of cardiovascular health. Don’t miss this opportunity to be part of a transformative event that will leave a lasting impact on your professional journey.
URL:https://www.noozhawk.com/calendar-old/3rd-international-conference-on-heart-and-cardiovascular-diseases/
LOCATION:City Seasons Suites Hotel\, City Seasons Suites Hotel\, 8th St\, Deira District\, إمارة دبيّ\, United Arab Emirates
ATTACH;FMTTYPE=image/png:https://www.noozhawk.com/wp-content/uploads/2024/06/Heart-Congress.png
ORGANIZER;CN="Scientex Conferences":MAILTO:info@scientexconferences.com
GEO:25.2545035;55.3310878
X-APPLE-STRUCTURED-LOCATION;VALUE=URI;X-ADDRESS=City Seasons Suites Hotel City Seasons Suites Hotel 8th St Deira District إمارة دبيّ United Arab Emirates;X-APPLE-RADIUS=500;X-TITLE=City Seasons Suites Hotel:geo:55.3310878,25.2545035
END:VEVENT
BEGIN:VEVENT
DTSTART;TZID=America/Los_Angeles:20250504T230000
DTEND;TZID=America/Los_Angeles:20250506T070000
DTSTAMP:20260422T043653
CREATED:20240613T084741Z
LAST-MODIFIED:20240613T084741Z
UID:10012767-1746399600-1746514800@www.noozhawk.com
SUMMARY:3rd International Conference on Gynecology and Obstetrics
DESCRIPTION:Join us for the 3rd International Conference on Gynecology and Obstetrics\, taking place from May 05-06\, 2025\, in the vibrant city of Dubai\, UAE. Under the theme “Global Perspectives in Gynecology and Obstetrics\,” this conference will bring together leading experts\, researchers\, and practitioners from around the world to share the latest advancements\, innovative practices\, and emerging trends in the field. Attendees will have the opportunity to engage in insightful discussions\, network with peers\, and explore new collaborations\, all while experiencing the rich culture and hospitality of Dubai. Don’t miss this premier event designed to enhance professional knowledge and improve patient care in gynecology and obstetrics.
URL:https://www.noozhawk.com/calendar-old/3rd-international-conference-on-gynecology-and-obstetrics-2/
LOCATION:City Seasons Suites Hotel\, City Seasons Suites Hotel\, 8th St\, Deira District\, إمارة دبيّ\, United Arab Emirates
ATTACH;FMTTYPE=image/jpeg:https://www.noozhawk.com/wp-content/uploads/2024/06/Gynecology_Congress_2025-1.jpg
ORGANIZER;CN="Scientex Conferences":MAILTO:info@scientexconferences.com
GEO:25.2545035;55.3310878
X-APPLE-STRUCTURED-LOCATION;VALUE=URI;X-ADDRESS=City Seasons Suites Hotel City Seasons Suites Hotel 8th St Deira District إمارة دبيّ United Arab Emirates;X-APPLE-RADIUS=500;X-TITLE=City Seasons Suites Hotel:geo:55.3310878,25.2545035
END:VEVENT
BEGIN:VEVENT
DTSTART;TZID=America/Los_Angeles:20250504T220000
DTEND;TZID=America/Los_Angeles:20250506T060000
DTSTAMP:20260422T043653
CREATED:20240613T084535Z
LAST-MODIFIED:20240613T084535Z
UID:10012766-1746396000-1746511200@www.noozhawk.com
SUMMARY:3rd International Conference on Gynecology and Obstetrics
DESCRIPTION:Join us for the 3rd International Conference on Gynecology and Obstetrics\, taking place from May 05-06\, 2025\, in the vibrant city of Dubai\, UAE. Under the theme “Global Perspectives in Gynecology and Obstetrics\,” this conference will bring together leading experts\, researchers\, and practitioners from around the world to share the latest advancements\, innovative practices\, and emerging trends in the field. Attendees will have the opportunity to engage in insightful discussions\, network with peers\, and explore new collaborations\, all while experiencing the rich culture and hospitality of Dubai. Don’t miss this premier event designed to enhance professional knowledge and improve patient care in gynecology and obstetrics.
URL:https://www.noozhawk.com/calendar-old/3rd-international-conference-on-gynecology-and-obstetrics/
LOCATION:City Seasons Suites Hotel\, City Seasons Suites Hotel\, 8th St\, Deira District\, إمارة دبيّ\, United Arab Emirates
ATTACH;FMTTYPE=image/jpeg:https://www.noozhawk.com/wp-content/uploads/2024/06/Gynecology_Congress_2025.jpg
ORGANIZER;CN="Scientex Conferences":MAILTO:info@scientexconferences.com
GEO:25.2545035;55.3310878
X-APPLE-STRUCTURED-LOCATION;VALUE=URI;X-ADDRESS=City Seasons Suites Hotel City Seasons Suites Hotel 8th St Deira District إمارة دبيّ United Arab Emirates;X-APPLE-RADIUS=500;X-TITLE=City Seasons Suites Hotel:geo:55.3310878,25.2545035
END:VEVENT
BEGIN:VEVENT
DTSTART;TZID=America/Los_Angeles:20250504T210000
DTEND;TZID=America/Los_Angeles:20250506T060000
DTSTAMP:20260422T043653
CREATED:20250128T085019Z
LAST-MODIFIED:20250128T085019Z
UID:10018110-1746392400-1746511200@www.noozhawk.com
SUMMARY:3rd International Conference on Heart and Cardiovascular Diseases
DESCRIPTION:Are you dedicated to expanding your knowledge of heart and cardiovascular research? If so\, the prestigious Heart Conference 2025 perfectly fits you!\nFollowing the successful completion of our first two series of Heart conferences in Dubai and Bangkok\, we are excited to announce the 3rd International Conference on Heart and Cardiovascular Diseases. This prestigious event will take place on May 05-06\, 2025\, in the dynamic city of Dubai\, UAE.\nOur theme for this year\, “Novel Progression Towards the Heart and Cardiovascular Diseases\,” emphasizes the latest advancements and innovations in the field of cardiology. This conference will bring together leading experts\, researchers\, and cardiology professionals from around the world to discuss cutting-edge research\, share best practices\, and explore new technologies in heart and cardiovascular disease management.\nHighlights of Heart Congress 2025:\n•	Exclusive Sessions & Panels\n•	Renowned Keynote Speakers\n•	Active Investigator Lectures\n•	Speaker & Poster Forums\n•	Interactive Discussions\n•	Open Innovation Challenges.\n•	Young Research & Career Development\n•	Global Business & Networking Opportunities\n•	Latest Product Showcases\nFor those unable to attend in person\, a virtual option is available with a comprehensive webinar on May 19-20\, 2025.\nTogether\, let’s advance the field of cardiology\, improve patient care\, and shape the future of cardiovascular health. Don’t miss this opportunity to be part of a transformative event that will leave a lasting impact on your professional journey.
URL:https://www.noozhawk.com/calendar-old/3rd-international-conference-on-heart-and-cardiovascular-diseases-2/
LOCATION:City Seasons Suites Hotel\, City Seasons Suites Hotel\, 8th St\, Deira District\, إمارة دبيّ\, United Arab Emirates
ATTACH;FMTTYPE=image/png:https://www.noozhawk.com/wp-content/uploads/2025/01/Heart-Congress_OGP.png
ORGANIZER;CN="Scientex Conferences":MAILTO:info@scientexconferences.com
GEO:25.2545035;55.3310878
X-APPLE-STRUCTURED-LOCATION;VALUE=URI;X-ADDRESS=City Seasons Suites Hotel City Seasons Suites Hotel 8th St Deira District إمارة دبيّ United Arab Emirates;X-APPLE-RADIUS=500;X-TITLE=City Seasons Suites Hotel:geo:55.3310878,25.2545035
END:VEVENT
END:VCALENDAR