BEGIN:VCALENDAR
VERSION:2.0
PRODID:-//Noozhawk - ECPv6.15.20//NONSGML v1.0//EN
CALSCALE:GREGORIAN
METHOD:PUBLISH
X-WR-CALNAME:Noozhawk
X-ORIGINAL-URL:https://www.noozhawk.com
X-WR-CALDESC:Events for Noozhawk
REFRESH-INTERVAL;VALUE=DURATION:PT1H
X-Robots-Tag:noindex
X-PUBLISHED-TTL:PT1H
BEGIN:VTIMEZONE
TZID:America/Los_Angeles
BEGIN:DAYLIGHT
TZOFFSETFROM:-0800
TZOFFSETTO:-0700
TZNAME:PDT
DTSTART:20240310T100000
END:DAYLIGHT
BEGIN:STANDARD
TZOFFSETFROM:-0700
TZOFFSETTO:-0800
TZNAME:PST
DTSTART:20241103T090000
END:STANDARD
BEGIN:DAYLIGHT
TZOFFSETFROM:-0800
TZOFFSETTO:-0700
TZNAME:PDT
DTSTART:20250309T100000
END:DAYLIGHT
BEGIN:STANDARD
TZOFFSETFROM:-0700
TZOFFSETTO:-0800
TZNAME:PST
DTSTART:20251102T090000
END:STANDARD
BEGIN:DAYLIGHT
TZOFFSETFROM:-0800
TZOFFSETTO:-0700
TZNAME:PDT
DTSTART:20260308T100000
END:DAYLIGHT
BEGIN:STANDARD
TZOFFSETFROM:-0700
TZOFFSETTO:-0800
TZNAME:PST
DTSTART:20261101T090000
END:STANDARD
END:VTIMEZONE
BEGIN:VEVENT
DTSTART;TZID=America/Los_Angeles:20250607T153000
DTEND;TZID=America/Los_Angeles:20250607T163000
DTSTAMP:20260420T123104
CREATED:20250603T234138Z
LAST-MODIFIED:20250603T234138Z
UID:10024001-1749310200-1749313800@www.noozhawk.com
SUMMARY:Divided We Fall: American Democracy Under the Two-Party System
DESCRIPTION:Offering insights on American democracy\, our speaker Lorelei Moosbrugger will discuss how the two-party system has empowered political extremes\, fostered incentives for tribalism\, and prevented the majority of more moderate voters from holding their party(s) accountable at the polls. \n\n\nTo help foster change\, Moosbrugger – a political science lecturer at UCSB – lends her expertise to several organizations working to reform our elections\, serving on the Boards of Directors of Californians for Electoral Reform and ProRep Coalition\, and on the Advisory Board of Rank the Vote. She teaches courses on Comparative Government\, Environmental Politics and Globalization. Her research focuses on the quality of governance in advanced democracies; specifically on how electoral institutions affect government responsiveness to majority preferences for public goods when they conflict with the demands of powerful interest groups. \n\n\nAudience Q and A will follow. The library will close promptly at 5:00 p.m.
URL:https://www.noozhawk.com/calendar-old/divided-we-fall-american-democracy-under-the-two-party-system/
LOCATION:Faulkner Gallery | Santa Barbara Public Library\, 40 East Anapamu Street\, Santa Barbara\, CA\, 93101\, United States
ATTACH;FMTTYPE=image/png:https://www.noozhawk.com/wp-content/uploads/2025/06/Divided_We_Fall_June-7-2025-Community-Forum_League-of-Women-Voters.png
ORGANIZER;CN="League of Women Voters of Santa Barbara":MAILTO:housing@lwvsantabarbara.org
GEO:34.4239628;-119.7031871
X-APPLE-STRUCTURED-LOCATION;VALUE=URI;X-ADDRESS=Faulkner Gallery | Santa Barbara Public Library 40 East Anapamu Street Santa Barbara CA 93101 United States;X-APPLE-RADIUS=500;X-TITLE=40 East Anapamu Street:geo:-119.7031871,34.4239628
END:VEVENT
BEGIN:VEVENT
DTSTART;TZID=America/Los_Angeles:20250508T160000
DTEND;TZID=America/Los_Angeles:20250508T173000
DTSTAMP:20260420T123104
CREATED:20250425T235240Z
LAST-MODIFIED:20250425T235240Z
UID:10023701-1746720000-1746725400@www.noozhawk.com
SUMMARY:Community in Bloom: Our Role in Improving Youth Mental Wellness in Our Community
DESCRIPTION:The well-being of our youth shapes the future of Santa Barbara County. As mental health challenges rise\, early intervention and community support are more critical than ever.\n\n\nJoin Family Service Agency and local experts to learn how to recognize signs of mental health struggles and access tools to support youth in your family\, school\, or community. This event goes beyond conversation—it’s a call to action to ensure every child has the care they need.\n\n\nSeating is limited. Register for tickets at https://give.fsacares.org/CommunityInBloomMay2025
URL:https://www.noozhawk.com/calendar-old/community-in-bloom-our-role-in-improving-youth-mental-wellness-in-our-community/
LOCATION:Faulkner Gallery | Santa Barbara Public Library\, 40 East Anapamu Street\, Santa Barbara\, CA\, 93101\, United States
ATTACH;FMTTYPE=image/png:https://www.noozhawk.com/wp-content/uploads/2025/04/May-8th-Web-Block-600-x-430-px.png
GEO:34.4239628;-119.7031871
X-APPLE-STRUCTURED-LOCATION;VALUE=URI;X-ADDRESS=Faulkner Gallery | Santa Barbara Public Library 40 East Anapamu Street Santa Barbara CA 93101 United States;X-APPLE-RADIUS=500;X-TITLE=40 East Anapamu Street:geo:-119.7031871,34.4239628
END:VEVENT
END:VCALENDAR