BEGIN:VCALENDAR
VERSION:2.0
PRODID:-//Noozhawk - ECPv6.15.20//NONSGML v1.0//EN
CALSCALE:GREGORIAN
METHOD:PUBLISH
X-ORIGINAL-URL:https://www.noozhawk.com
X-WR-CALDESC:Events for Noozhawk
REFRESH-INTERVAL;VALUE=DURATION:PT1H
X-Robots-Tag:noindex
X-PUBLISHED-TTL:PT1H
BEGIN:VTIMEZONE
TZID:America/Los_Angeles
BEGIN:DAYLIGHT
TZOFFSETFROM:-0800
TZOFFSETTO:-0700
TZNAME:PDT
DTSTART:20240310T100000
END:DAYLIGHT
BEGIN:STANDARD
TZOFFSETFROM:-0700
TZOFFSETTO:-0800
TZNAME:PST
DTSTART:20241103T090000
END:STANDARD
BEGIN:DAYLIGHT
TZOFFSETFROM:-0800
TZOFFSETTO:-0700
TZNAME:PDT
DTSTART:20250309T100000
END:DAYLIGHT
BEGIN:STANDARD
TZOFFSETFROM:-0700
TZOFFSETTO:-0800
TZNAME:PST
DTSTART:20251102T090000
END:STANDARD
BEGIN:DAYLIGHT
TZOFFSETFROM:-0800
TZOFFSETTO:-0700
TZNAME:PDT
DTSTART:20260308T100000
END:DAYLIGHT
BEGIN:STANDARD
TZOFFSETFROM:-0700
TZOFFSETTO:-0800
TZNAME:PST
DTSTART:20261101T090000
END:STANDARD
END:VTIMEZONE
BEGIN:VEVENT
DTSTART;TZID=America/Los_Angeles:20250629T100000
DTEND;TZID=America/Los_Angeles:20250629T130000
DTSTAMP:20260420T215259
CREATED:20250619T173311Z
LAST-MODIFIED:20250619T173311Z
UID:10024367-1751191200-1751202000@www.noozhawk.com
SUMMARY:Punches and Pinot
DESCRIPTION:What would you do if Stranger Danger approached? Join us for a 2 hour self-protection and defense class followed by wine tasting from Fox Wine Co and charcuterie from The Nook. This fun and informative session is open to everyone 21+. Space is limited so reserve your spot today!
URL:https://www.noozhawk.com/calendar-old/punches-and-pinot/
LOCATION:Fox Wine Co.\, 120 Santa Barbara St.\, Santa Barbara\, 93101
ATTACH;FMTTYPE=image/png:https://www.noozhawk.com/wp-content/uploads/2025/06/PP-final-617.png
ORGANIZER;CN="805 Defense":MAILTO:805defense@gmail.com
GEO:34.4158531;-119.6885284
X-APPLE-STRUCTURED-LOCATION;VALUE=URI;X-ADDRESS=Fox Wine Co. 120 Santa Barbara St. Santa Barbara 93101;X-APPLE-RADIUS=500;X-TITLE=120 Santa Barbara St.:geo:-119.6885284,34.4158531
END:VEVENT
END:VCALENDAR