BEGIN:VCALENDAR
VERSION:2.0
PRODID:-//Noozhawk - ECPv6.15.20//NONSGML v1.0//EN
CALSCALE:GREGORIAN
METHOD:PUBLISH
X-WR-CALNAME:Noozhawk
X-ORIGINAL-URL:https://www.noozhawk.com
X-WR-CALDESC:Events for Noozhawk
REFRESH-INTERVAL;VALUE=DURATION:PT1H
X-Robots-Tag:noindex
X-PUBLISHED-TTL:PT1H
BEGIN:VTIMEZONE
TZID:America/Los_Angeles
BEGIN:DAYLIGHT
TZOFFSETFROM:-0800
TZOFFSETTO:-0700
TZNAME:PDT
DTSTART:20240310T100000
END:DAYLIGHT
BEGIN:STANDARD
TZOFFSETFROM:-0700
TZOFFSETTO:-0800
TZNAME:PST
DTSTART:20241103T090000
END:STANDARD
BEGIN:DAYLIGHT
TZOFFSETFROM:-0800
TZOFFSETTO:-0700
TZNAME:PDT
DTSTART:20250309T100000
END:DAYLIGHT
BEGIN:STANDARD
TZOFFSETFROM:-0700
TZOFFSETTO:-0800
TZNAME:PST
DTSTART:20251102T090000
END:STANDARD
BEGIN:DAYLIGHT
TZOFFSETFROM:-0800
TZOFFSETTO:-0700
TZNAME:PDT
DTSTART:20260308T100000
END:DAYLIGHT
BEGIN:STANDARD
TZOFFSETFROM:-0700
TZOFFSETTO:-0800
TZNAME:PST
DTSTART:20261101T090000
END:STANDARD
END:VTIMEZONE
BEGIN:VEVENT
DTSTART;TZID=America/Los_Angeles:20250509T174500
DTEND;TZID=America/Los_Angeles:20250509T191500
DTSTAMP:20260423T190119
CREATED:20250509T231947Z
LAST-MODIFIED:20250509T231947Z
UID:10023811-1746812700-1746818100@www.noozhawk.com
SUMMARY:UCSB Wildfire Prevention and Policy Lecture Series: How do we live with fire?
DESCRIPTION:We invite you to attend the next event in the UCSB Wildfire Prevention and Policy Lecture Series:\nHow Do We Live With Fire?\nA special evening with author Obi Kaufmann\n\n\nThursday\, June 5th\nReception 5:45 PM\nTalk 6:15 – 7:15 PM\n\n\nHenley Hall\, UCSB\n552 University Rd\,\nSanta Barbara\, CA 93117\n\n\nThis event is free and open to the public. Please register through this link: https://forms.gle/zL7AucU7HFBJbWrH7\nBooks will be available for purchase. \n\n \n\n\nFire is an essential part of California’s ecology. Humans have been using it to shape the California landscape for thousands of years. But today many Californians’ relationship to fire is one of fear. Obi Kaufmann\, author of the best-selling California Field Atlas\, now asks: How do we live with fire? What makes fire essential to a healthy and biodiverse Golden State\, and how do we benefit from its teachings? With the same solution-minded ethic as his much-admired The State of Water: Understanding California’s Most Precious Resource\, Kaufmann presents fire as a force of regeneration rather than apocalypse. He considers the long history of ecological burns\, the varied ways fire behaves across the state\, and the lessons we can learn from California’s largest fires of recent decades.\n\n\nObi Kaufmann is the author of several award-winning\, bestselling books on California’s ecology\, biodiversity\, and geography. The Deserts of California won the 2024 Golden Poppy Award for California Lifestyle from the California Independent Booksellers Alliance. A lifelong resident of California\, Kaufmann makes his home base in Oakland when he isn’t backpacking. You can catch him every month in conversation with author and tribal chairman Greg Sarris on their podcast\, Place and Purpose\, and you can follow his work on Instagram @coyotethunder.
URL:https://www.noozhawk.com/calendar-old/ucsb-wildfire-prevention-and-policy-lecture-series-how-do-we-live-with-fire/
LOCATION:Henley Hall\, UCSB\, Institute for Energy Efficiency\, 552 University Rd\, Isla Vista\, CA\, 93117\, United States
ATTACH;FMTTYPE=image/jpeg:https://www.noozhawk.com/wp-content/uploads/2025/05/Fire-004-Kaufmann.jpg
GEO:34.4151352;-119.8502542
X-APPLE-STRUCTURED-LOCATION;VALUE=URI;X-ADDRESS=Henley Hall UCSB Institute for Energy Efficiency 552 University Rd Isla Vista CA 93117 United States;X-APPLE-RADIUS=500;X-TITLE=Institute for Energy Efficiency\, 552 University Rd:geo:-119.8502542,34.4151352
END:VEVENT
END:VCALENDAR