BEGIN:VCALENDAR
VERSION:2.0
PRODID:-//Noozhawk - ECPv6.15.20//NONSGML v1.0//EN
CALSCALE:GREGORIAN
METHOD:PUBLISH
X-WR-CALNAME:Noozhawk
X-ORIGINAL-URL:https://www.noozhawk.com
X-WR-CALDESC:Events for Noozhawk
REFRESH-INTERVAL;VALUE=DURATION:PT1H
X-Robots-Tag:noindex
X-PUBLISHED-TTL:PT1H
BEGIN:VTIMEZONE
TZID:America/Los_Angeles
BEGIN:DAYLIGHT
TZOFFSETFROM:-0800
TZOFFSETTO:-0700
TZNAME:PDT
DTSTART:20240310T100000
END:DAYLIGHT
BEGIN:STANDARD
TZOFFSETFROM:-0700
TZOFFSETTO:-0800
TZNAME:PST
DTSTART:20241103T090000
END:STANDARD
BEGIN:DAYLIGHT
TZOFFSETFROM:-0800
TZOFFSETTO:-0700
TZNAME:PDT
DTSTART:20250309T100000
END:DAYLIGHT
BEGIN:STANDARD
TZOFFSETFROM:-0700
TZOFFSETTO:-0800
TZNAME:PST
DTSTART:20251102T090000
END:STANDARD
BEGIN:DAYLIGHT
TZOFFSETFROM:-0800
TZOFFSETTO:-0700
TZNAME:PDT
DTSTART:20260308T100000
END:DAYLIGHT
BEGIN:STANDARD
TZOFFSETFROM:-0700
TZOFFSETTO:-0800
TZNAME:PST
DTSTART:20261101T090000
END:STANDARD
END:VTIMEZONE
BEGIN:VEVENT
DTSTART;TZID=America/Los_Angeles:20250426T110000
DTEND;TZID=America/Los_Angeles:20250426T110000
DTSTAMP:20260424T150106
CREATED:20250415T164428Z
LAST-MODIFIED:20250415T164428Z
UID:10023604-1745665200-1745665200@www.noozhawk.com
SUMMARY:SEEAG’s Free“Farm Day Every Day” At Las Cumbres Ranch
DESCRIPTION:Students for Eco-Education and Agriculture (SEEAG)\, host of annual Farm Day events in Ventura and Santa Barbara counties and student agriculture education programs\, is hosting its free Spring “Farm Day Every Day\,” at Las Cumbres Ranch near Los Alamos on Saturday\, April 26 from 9:00 a.m. to 11:00 a.m.\n\n\nLas Cumbres Ranch is a holistically managed\, family-owned cattle ranch that primarily focuses on regenerative land management. Hosted by the ranch’s operations manager\, Stefan Selbert\, visitors will learn about regenerative agriculture\, biodiverse pastures and how the ranch raises its bonsmara cattle. \n\n\nFarm Day Every Day is a year-round initiative that focuses on building the connection between the public and local farms. \n\n\nRegistration for the April 26 tour opens on Friday\, April 18th at 10 a.m. Only 50 spots are available. To learn how to register\, go to https://www.seeag.org/farm-day-every-day.
URL:https://www.noozhawk.com/calendar-old/seeags-freefarm-day-every-day-at-las-cumbres-ranch/
LOCATION:Las Cumbres Ranch\, California 135\, Santa Maria\, California\, 93455\, United States
ATTACH;FMTTYPE=image/jpeg:https://www.noozhawk.com/wp-content/uploads/2025/04/Las-Cumbres-Ranch-small.jpg
GEO:34.751636;-120.3870533
X-APPLE-STRUCTURED-LOCATION;VALUE=URI;X-ADDRESS=Las Cumbres Ranch California 135 Santa Maria California 93455 United States;X-APPLE-RADIUS=500;X-TITLE=California 135:geo:-120.3870533,34.751636
END:VEVENT
END:VCALENDAR