BEGIN:VCALENDAR
VERSION:2.0
PRODID:-//Noozhawk - ECPv6.15.20//NONSGML v1.0//EN
CALSCALE:GREGORIAN
METHOD:PUBLISH
X-ORIGINAL-URL:https://www.noozhawk.com
X-WR-CALDESC:Events for Noozhawk
REFRESH-INTERVAL;VALUE=DURATION:PT1H
X-Robots-Tag:noindex
X-PUBLISHED-TTL:PT1H
BEGIN:VTIMEZONE
TZID:America/Los_Angeles
BEGIN:DAYLIGHT
TZOFFSETFROM:-0800
TZOFFSETTO:-0700
TZNAME:PDT
DTSTART:20240310T100000
END:DAYLIGHT
BEGIN:STANDARD
TZOFFSETFROM:-0700
TZOFFSETTO:-0800
TZNAME:PST
DTSTART:20241103T090000
END:STANDARD
BEGIN:DAYLIGHT
TZOFFSETFROM:-0800
TZOFFSETTO:-0700
TZNAME:PDT
DTSTART:20250309T100000
END:DAYLIGHT
BEGIN:STANDARD
TZOFFSETFROM:-0700
TZOFFSETTO:-0800
TZNAME:PST
DTSTART:20251102T090000
END:STANDARD
BEGIN:DAYLIGHT
TZOFFSETFROM:-0800
TZOFFSETTO:-0700
TZNAME:PDT
DTSTART:20260308T100000
END:DAYLIGHT
BEGIN:STANDARD
TZOFFSETFROM:-0700
TZOFFSETTO:-0800
TZNAME:PST
DTSTART:20261101T090000
END:STANDARD
END:VTIMEZONE
BEGIN:VEVENT
DTSTART;TZID=America/Los_Angeles:20250804T183000
DTEND;TZID=America/Los_Angeles:20250804T203000
DTSTAMP:20260419T111811
CREATED:20241204T210858Z
LAST-MODIFIED:20241206T201349Z
UID:10016945-1754332200-1754339400@www.noozhawk.com
SUMMARY:Head Games Trivia Night @ M. Special Brewing - Goleta
DESCRIPTION:Eat. Drink. Think. WIN!\n\n\nLive multi-media trivia every Monday @ 6:30pm.\n\n\nM.Special Brewing Co.\, Goleta Taproom.\n\n\nFree to play. Win prizes. Teams up to 6.\n\n \n\n\nHosted by comedian Lauren Krusyna
URL:https://www.noozhawk.com/calendar-old/head-games-trivia-night-m-special-brewing-goleta/2025-08-04/
LOCATION:M Special – Goleta\, 6860 Cortona Dr Building C\, Goleta\, CA\, 93117\, United States
ATTACH;FMTTYPE=image/jpeg:https://www.noozhawk.com/wp-content/uploads/2024/12/FACEBOOK-EVENT-SIZED-HEAD-GAMES-BANNER.jpg
GEO:34.4187305;-119.6976933
X-APPLE-STRUCTURED-LOCATION;VALUE=URI;X-ADDRESS=M Special – Goleta 6860 Cortona Dr Building C Goleta CA 93117 United States;X-APPLE-RADIUS=500;X-TITLE=6860 Cortona Dr Building C:geo:-119.6976933,34.4187305
END:VEVENT
BEGIN:VEVENT
DTSTART;TZID=America/Los_Angeles:20250728T183000
DTEND;TZID=America/Los_Angeles:20250728T203000
DTSTAMP:20260419T111811
CREATED:20241204T210858Z
LAST-MODIFIED:20241206T201349Z
UID:10016944-1753727400-1753734600@www.noozhawk.com
SUMMARY:Head Games Trivia Night @ M. Special Brewing - Goleta
DESCRIPTION:Eat. Drink. Think. WIN!\n\n\nLive multi-media trivia every Monday @ 6:30pm.\n\n\nM.Special Brewing Co.\, Goleta Taproom.\n\n\nFree to play. Win prizes. Teams up to 6.\n\n \n\n\nHosted by comedian Lauren Krusyna
URL:https://www.noozhawk.com/calendar-old/head-games-trivia-night-m-special-brewing-goleta/2025-07-28/
LOCATION:M Special – Goleta\, 6860 Cortona Dr Building C\, Goleta\, CA\, 93117\, United States
ATTACH;FMTTYPE=image/jpeg:https://www.noozhawk.com/wp-content/uploads/2024/12/FACEBOOK-EVENT-SIZED-HEAD-GAMES-BANNER.jpg
GEO:34.4187305;-119.6976933
X-APPLE-STRUCTURED-LOCATION;VALUE=URI;X-ADDRESS=M Special – Goleta 6860 Cortona Dr Building C Goleta CA 93117 United States;X-APPLE-RADIUS=500;X-TITLE=6860 Cortona Dr Building C:geo:-119.6976933,34.4187305
END:VEVENT
BEGIN:VEVENT
DTSTART;TZID=America/Los_Angeles:20250721T183000
DTEND;TZID=America/Los_Angeles:20250721T203000
DTSTAMP:20260419T111811
CREATED:20241204T210858Z
LAST-MODIFIED:20241206T201349Z
UID:10016943-1753122600-1753129800@www.noozhawk.com
SUMMARY:Head Games Trivia Night @ M. Special Brewing - Goleta
DESCRIPTION:Eat. Drink. Think. WIN!\n\n\nLive multi-media trivia every Monday @ 6:30pm.\n\n\nM.Special Brewing Co.\, Goleta Taproom.\n\n\nFree to play. Win prizes. Teams up to 6.\n\n \n\n\nHosted by comedian Lauren Krusyna
URL:https://www.noozhawk.com/calendar-old/head-games-trivia-night-m-special-brewing-goleta/2025-07-21/
LOCATION:M Special – Goleta\, 6860 Cortona Dr Building C\, Goleta\, CA\, 93117\, United States
ATTACH;FMTTYPE=image/jpeg:https://www.noozhawk.com/wp-content/uploads/2024/12/FACEBOOK-EVENT-SIZED-HEAD-GAMES-BANNER.jpg
GEO:34.4187305;-119.6976933
X-APPLE-STRUCTURED-LOCATION;VALUE=URI;X-ADDRESS=M Special – Goleta 6860 Cortona Dr Building C Goleta CA 93117 United States;X-APPLE-RADIUS=500;X-TITLE=6860 Cortona Dr Building C:geo:-119.6976933,34.4187305
END:VEVENT
BEGIN:VEVENT
DTSTART;TZID=America/Los_Angeles:20250714T183000
DTEND;TZID=America/Los_Angeles:20250714T203000
DTSTAMP:20260419T111811
CREATED:20241204T210858Z
LAST-MODIFIED:20241206T201349Z
UID:10016942-1752517800-1752525000@www.noozhawk.com
SUMMARY:Head Games Trivia Night @ M. Special Brewing - Goleta
DESCRIPTION:Eat. Drink. Think. WIN!\n\n\nLive multi-media trivia every Monday @ 6:30pm.\n\n\nM.Special Brewing Co.\, Goleta Taproom.\n\n\nFree to play. Win prizes. Teams up to 6.\n\n \n\n\nHosted by comedian Lauren Krusyna
URL:https://www.noozhawk.com/calendar-old/head-games-trivia-night-m-special-brewing-goleta/2025-07-14/
LOCATION:M Special – Goleta\, 6860 Cortona Dr Building C\, Goleta\, CA\, 93117\, United States
ATTACH;FMTTYPE=image/jpeg:https://www.noozhawk.com/wp-content/uploads/2024/12/FACEBOOK-EVENT-SIZED-HEAD-GAMES-BANNER.jpg
GEO:34.4187305;-119.6976933
X-APPLE-STRUCTURED-LOCATION;VALUE=URI;X-ADDRESS=M Special – Goleta 6860 Cortona Dr Building C Goleta CA 93117 United States;X-APPLE-RADIUS=500;X-TITLE=6860 Cortona Dr Building C:geo:-119.6976933,34.4187305
END:VEVENT
BEGIN:VEVENT
DTSTART;TZID=America/Los_Angeles:20250707T183000
DTEND;TZID=America/Los_Angeles:20250707T203000
DTSTAMP:20260419T111811
CREATED:20241204T210858Z
LAST-MODIFIED:20241206T201349Z
UID:10016941-1751913000-1751920200@www.noozhawk.com
SUMMARY:Head Games Trivia Night @ M. Special Brewing - Goleta
DESCRIPTION:Eat. Drink. Think. WIN!\n\n\nLive multi-media trivia every Monday @ 6:30pm.\n\n\nM.Special Brewing Co.\, Goleta Taproom.\n\n\nFree to play. Win prizes. Teams up to 6.\n\n \n\n\nHosted by comedian Lauren Krusyna
URL:https://www.noozhawk.com/calendar-old/head-games-trivia-night-m-special-brewing-goleta/2025-07-07/
LOCATION:M Special – Goleta\, 6860 Cortona Dr Building C\, Goleta\, CA\, 93117\, United States
ATTACH;FMTTYPE=image/jpeg:https://www.noozhawk.com/wp-content/uploads/2024/12/FACEBOOK-EVENT-SIZED-HEAD-GAMES-BANNER.jpg
GEO:34.4187305;-119.6976933
X-APPLE-STRUCTURED-LOCATION;VALUE=URI;X-ADDRESS=M Special – Goleta 6860 Cortona Dr Building C Goleta CA 93117 United States;X-APPLE-RADIUS=500;X-TITLE=6860 Cortona Dr Building C:geo:-119.6976933,34.4187305
END:VEVENT
BEGIN:VEVENT
DTSTART;TZID=America/Los_Angeles:20250630T183000
DTEND;TZID=America/Los_Angeles:20250630T203000
DTSTAMP:20260419T111811
CREATED:20241204T210858Z
LAST-MODIFIED:20241206T201349Z
UID:10016940-1751308200-1751315400@www.noozhawk.com
SUMMARY:Head Games Trivia Night @ M. Special Brewing - Goleta
DESCRIPTION:Eat. Drink. Think. WIN!\n\n\nLive multi-media trivia every Monday @ 6:30pm.\n\n\nM.Special Brewing Co.\, Goleta Taproom.\n\n\nFree to play. Win prizes. Teams up to 6.\n\n \n\n\nHosted by comedian Lauren Krusyna
URL:https://www.noozhawk.com/calendar-old/head-games-trivia-night-m-special-brewing-goleta/2025-06-30/
LOCATION:M Special – Goleta\, 6860 Cortona Dr Building C\, Goleta\, CA\, 93117\, United States
ATTACH;FMTTYPE=image/jpeg:https://www.noozhawk.com/wp-content/uploads/2024/12/FACEBOOK-EVENT-SIZED-HEAD-GAMES-BANNER.jpg
GEO:34.4187305;-119.6976933
X-APPLE-STRUCTURED-LOCATION;VALUE=URI;X-ADDRESS=M Special – Goleta 6860 Cortona Dr Building C Goleta CA 93117 United States;X-APPLE-RADIUS=500;X-TITLE=6860 Cortona Dr Building C:geo:-119.6976933,34.4187305
END:VEVENT
BEGIN:VEVENT
DTSTART;TZID=America/Los_Angeles:20250623T183000
DTEND;TZID=America/Los_Angeles:20250623T203000
DTSTAMP:20260419T111811
CREATED:20241204T210858Z
LAST-MODIFIED:20241206T201349Z
UID:10016939-1750703400-1750710600@www.noozhawk.com
SUMMARY:Head Games Trivia Night @ M. Special Brewing - Goleta
DESCRIPTION:Eat. Drink. Think. WIN!\n\n\nLive multi-media trivia every Monday @ 6:30pm.\n\n\nM.Special Brewing Co.\, Goleta Taproom.\n\n\nFree to play. Win prizes. Teams up to 6.\n\n \n\n\nHosted by comedian Lauren Krusyna
URL:https://www.noozhawk.com/calendar-old/head-games-trivia-night-m-special-brewing-goleta/2025-06-23/
LOCATION:M Special – Goleta\, 6860 Cortona Dr Building C\, Goleta\, CA\, 93117\, United States
ATTACH;FMTTYPE=image/jpeg:https://www.noozhawk.com/wp-content/uploads/2024/12/FACEBOOK-EVENT-SIZED-HEAD-GAMES-BANNER.jpg
GEO:34.4187305;-119.6976933
X-APPLE-STRUCTURED-LOCATION;VALUE=URI;X-ADDRESS=M Special – Goleta 6860 Cortona Dr Building C Goleta CA 93117 United States;X-APPLE-RADIUS=500;X-TITLE=6860 Cortona Dr Building C:geo:-119.6976933,34.4187305
END:VEVENT
BEGIN:VEVENT
DTSTART;TZID=America/Los_Angeles:20250616T183000
DTEND;TZID=America/Los_Angeles:20250616T203000
DTSTAMP:20260419T111811
CREATED:20241204T210858Z
LAST-MODIFIED:20241206T201349Z
UID:10016938-1750098600-1750105800@www.noozhawk.com
SUMMARY:Head Games Trivia Night @ M. Special Brewing - Goleta
DESCRIPTION:Eat. Drink. Think. WIN!\n\n\nLive multi-media trivia every Monday @ 6:30pm.\n\n\nM.Special Brewing Co.\, Goleta Taproom.\n\n\nFree to play. Win prizes. Teams up to 6.\n\n \n\n\nHosted by comedian Lauren Krusyna
URL:https://www.noozhawk.com/calendar-old/head-games-trivia-night-m-special-brewing-goleta/2025-06-16/
LOCATION:M Special – Goleta\, 6860 Cortona Dr Building C\, Goleta\, CA\, 93117\, United States
ATTACH;FMTTYPE=image/jpeg:https://www.noozhawk.com/wp-content/uploads/2024/12/FACEBOOK-EVENT-SIZED-HEAD-GAMES-BANNER.jpg
GEO:34.4187305;-119.6976933
X-APPLE-STRUCTURED-LOCATION;VALUE=URI;X-ADDRESS=M Special – Goleta 6860 Cortona Dr Building C Goleta CA 93117 United States;X-APPLE-RADIUS=500;X-TITLE=6860 Cortona Dr Building C:geo:-119.6976933,34.4187305
END:VEVENT
BEGIN:VEVENT
DTSTART;TZID=America/Los_Angeles:20250609T183000
DTEND;TZID=America/Los_Angeles:20250609T203000
DTSTAMP:20260419T111811
CREATED:20241204T210858Z
LAST-MODIFIED:20241206T201349Z
UID:10016937-1749493800-1749501000@www.noozhawk.com
SUMMARY:Head Games Trivia Night @ M. Special Brewing - Goleta
DESCRIPTION:Eat. Drink. Think. WIN!\n\n\nLive multi-media trivia every Monday @ 6:30pm.\n\n\nM.Special Brewing Co.\, Goleta Taproom.\n\n\nFree to play. Win prizes. Teams up to 6.\n\n \n\n\nHosted by comedian Lauren Krusyna
URL:https://www.noozhawk.com/calendar-old/head-games-trivia-night-m-special-brewing-goleta/2025-06-09/
LOCATION:M Special – Goleta\, 6860 Cortona Dr Building C\, Goleta\, CA\, 93117\, United States
ATTACH;FMTTYPE=image/jpeg:https://www.noozhawk.com/wp-content/uploads/2024/12/FACEBOOK-EVENT-SIZED-HEAD-GAMES-BANNER.jpg
GEO:34.4187305;-119.6976933
X-APPLE-STRUCTURED-LOCATION;VALUE=URI;X-ADDRESS=M Special – Goleta 6860 Cortona Dr Building C Goleta CA 93117 United States;X-APPLE-RADIUS=500;X-TITLE=6860 Cortona Dr Building C:geo:-119.6976933,34.4187305
END:VEVENT
BEGIN:VEVENT
DTSTART;TZID=America/Los_Angeles:20250602T183000
DTEND;TZID=America/Los_Angeles:20250602T203000
DTSTAMP:20260419T111811
CREATED:20241204T210858Z
LAST-MODIFIED:20241206T201349Z
UID:10016936-1748889000-1748896200@www.noozhawk.com
SUMMARY:Head Games Trivia Night @ M. Special Brewing - Goleta
DESCRIPTION:Eat. Drink. Think. WIN!\n\n\nLive multi-media trivia every Monday @ 6:30pm.\n\n\nM.Special Brewing Co.\, Goleta Taproom.\n\n\nFree to play. Win prizes. Teams up to 6.\n\n \n\n\nHosted by comedian Lauren Krusyna
URL:https://www.noozhawk.com/calendar-old/head-games-trivia-night-m-special-brewing-goleta/2025-06-02/
LOCATION:M Special – Goleta\, 6860 Cortona Dr Building C\, Goleta\, CA\, 93117\, United States
ATTACH;FMTTYPE=image/jpeg:https://www.noozhawk.com/wp-content/uploads/2024/12/FACEBOOK-EVENT-SIZED-HEAD-GAMES-BANNER.jpg
GEO:34.4187305;-119.6976933
X-APPLE-STRUCTURED-LOCATION;VALUE=URI;X-ADDRESS=M Special – Goleta 6860 Cortona Dr Building C Goleta CA 93117 United States;X-APPLE-RADIUS=500;X-TITLE=6860 Cortona Dr Building C:geo:-119.6976933,34.4187305
END:VEVENT
BEGIN:VEVENT
DTSTART;TZID=America/Los_Angeles:20250526T183000
DTEND;TZID=America/Los_Angeles:20250526T203000
DTSTAMP:20260419T111811
CREATED:20241204T210858Z
LAST-MODIFIED:20241206T201349Z
UID:10016935-1748284200-1748291400@www.noozhawk.com
SUMMARY:Head Games Trivia Night @ M. Special Brewing - Goleta
DESCRIPTION:Eat. Drink. Think. WIN!\n\n\nLive multi-media trivia every Monday @ 6:30pm.\n\n\nM.Special Brewing Co.\, Goleta Taproom.\n\n\nFree to play. Win prizes. Teams up to 6.\n\n \n\n\nHosted by comedian Lauren Krusyna
URL:https://www.noozhawk.com/calendar-old/head-games-trivia-night-m-special-brewing-goleta/2025-05-26/
LOCATION:M Special – Goleta\, 6860 Cortona Dr Building C\, Goleta\, CA\, 93117\, United States
ATTACH;FMTTYPE=image/jpeg:https://www.noozhawk.com/wp-content/uploads/2024/12/FACEBOOK-EVENT-SIZED-HEAD-GAMES-BANNER.jpg
GEO:34.4187305;-119.6976933
X-APPLE-STRUCTURED-LOCATION;VALUE=URI;X-ADDRESS=M Special – Goleta 6860 Cortona Dr Building C Goleta CA 93117 United States;X-APPLE-RADIUS=500;X-TITLE=6860 Cortona Dr Building C:geo:-119.6976933,34.4187305
END:VEVENT
BEGIN:VEVENT
DTSTART;TZID=America/Los_Angeles:20250519T183000
DTEND;TZID=America/Los_Angeles:20250519T203000
DTSTAMP:20260419T111811
CREATED:20241204T210858Z
LAST-MODIFIED:20241206T201349Z
UID:10016934-1747679400-1747686600@www.noozhawk.com
SUMMARY:Head Games Trivia Night @ M. Special Brewing - Goleta
DESCRIPTION:Eat. Drink. Think. WIN!\n\n\nLive multi-media trivia every Monday @ 6:30pm.\n\n\nM.Special Brewing Co.\, Goleta Taproom.\n\n\nFree to play. Win prizes. Teams up to 6.\n\n \n\n\nHosted by comedian Lauren Krusyna
URL:https://www.noozhawk.com/calendar-old/head-games-trivia-night-m-special-brewing-goleta/2025-05-19/
LOCATION:M Special – Goleta\, 6860 Cortona Dr Building C\, Goleta\, CA\, 93117\, United States
ATTACH;FMTTYPE=image/jpeg:https://www.noozhawk.com/wp-content/uploads/2024/12/FACEBOOK-EVENT-SIZED-HEAD-GAMES-BANNER.jpg
GEO:34.4187305;-119.6976933
X-APPLE-STRUCTURED-LOCATION;VALUE=URI;X-ADDRESS=M Special – Goleta 6860 Cortona Dr Building C Goleta CA 93117 United States;X-APPLE-RADIUS=500;X-TITLE=6860 Cortona Dr Building C:geo:-119.6976933,34.4187305
END:VEVENT
BEGIN:VEVENT
DTSTART;TZID=America/Los_Angeles:20250512T183000
DTEND;TZID=America/Los_Angeles:20250512T203000
DTSTAMP:20260419T111811
CREATED:20241204T210858Z
LAST-MODIFIED:20241206T201349Z
UID:10016933-1747074600-1747081800@www.noozhawk.com
SUMMARY:Head Games Trivia Night @ M. Special Brewing - Goleta
DESCRIPTION:Eat. Drink. Think. WIN!\n\n\nLive multi-media trivia every Monday @ 6:30pm.\n\n\nM.Special Brewing Co.\, Goleta Taproom.\n\n\nFree to play. Win prizes. Teams up to 6.\n\n \n\n\nHosted by comedian Lauren Krusyna
URL:https://www.noozhawk.com/calendar-old/head-games-trivia-night-m-special-brewing-goleta/2025-05-12/
LOCATION:M Special – Goleta\, 6860 Cortona Dr Building C\, Goleta\, CA\, 93117\, United States
ATTACH;FMTTYPE=image/jpeg:https://www.noozhawk.com/wp-content/uploads/2024/12/FACEBOOK-EVENT-SIZED-HEAD-GAMES-BANNER.jpg
GEO:34.4187305;-119.6976933
X-APPLE-STRUCTURED-LOCATION;VALUE=URI;X-ADDRESS=M Special – Goleta 6860 Cortona Dr Building C Goleta CA 93117 United States;X-APPLE-RADIUS=500;X-TITLE=6860 Cortona Dr Building C:geo:-119.6976933,34.4187305
END:VEVENT
BEGIN:VEVENT
DTSTART;TZID=America/Los_Angeles:20250505T183000
DTEND;TZID=America/Los_Angeles:20250505T203000
DTSTAMP:20260419T111811
CREATED:20241204T210858Z
LAST-MODIFIED:20241206T201349Z
UID:10016932-1746469800-1746477000@www.noozhawk.com
SUMMARY:Head Games Trivia Night @ M. Special Brewing - Goleta
DESCRIPTION:Eat. Drink. Think. WIN!\n\n\nLive multi-media trivia every Monday @ 6:30pm.\n\n\nM.Special Brewing Co.\, Goleta Taproom.\n\n\nFree to play. Win prizes. Teams up to 6.\n\n \n\n\nHosted by comedian Lauren Krusyna
URL:https://www.noozhawk.com/calendar-old/head-games-trivia-night-m-special-brewing-goleta/2025-05-05/
LOCATION:M Special – Goleta\, 6860 Cortona Dr Building C\, Goleta\, CA\, 93117\, United States
ATTACH;FMTTYPE=image/jpeg:https://www.noozhawk.com/wp-content/uploads/2024/12/FACEBOOK-EVENT-SIZED-HEAD-GAMES-BANNER.jpg
GEO:34.4187305;-119.6976933
X-APPLE-STRUCTURED-LOCATION;VALUE=URI;X-ADDRESS=M Special – Goleta 6860 Cortona Dr Building C Goleta CA 93117 United States;X-APPLE-RADIUS=500;X-TITLE=6860 Cortona Dr Building C:geo:-119.6976933,34.4187305
END:VEVENT
BEGIN:VEVENT
DTSTART;TZID=America/Los_Angeles:20250428T183000
DTEND;TZID=America/Los_Angeles:20250428T203000
DTSTAMP:20260419T111811
CREATED:20241204T210858Z
LAST-MODIFIED:20241206T201349Z
UID:10016931-1745865000-1745872200@www.noozhawk.com
SUMMARY:Head Games Trivia Night @ M. Special Brewing - Goleta
DESCRIPTION:Eat. Drink. Think. WIN!\n\n\nLive multi-media trivia every Monday @ 6:30pm.\n\n\nM.Special Brewing Co.\, Goleta Taproom.\n\n\nFree to play. Win prizes. Teams up to 6.\n\n \n\n\nHosted by comedian Lauren Krusyna
URL:https://www.noozhawk.com/calendar-old/head-games-trivia-night-m-special-brewing-goleta/2025-04-28/
LOCATION:M Special – Goleta\, 6860 Cortona Dr Building C\, Goleta\, CA\, 93117\, United States
ATTACH;FMTTYPE=image/jpeg:https://www.noozhawk.com/wp-content/uploads/2024/12/FACEBOOK-EVENT-SIZED-HEAD-GAMES-BANNER.jpg
GEO:34.4187305;-119.6976933
X-APPLE-STRUCTURED-LOCATION;VALUE=URI;X-ADDRESS=M Special – Goleta 6860 Cortona Dr Building C Goleta CA 93117 United States;X-APPLE-RADIUS=500;X-TITLE=6860 Cortona Dr Building C:geo:-119.6976933,34.4187305
END:VEVENT
BEGIN:VEVENT
DTSTART;TZID=America/Los_Angeles:20250421T183000
DTEND;TZID=America/Los_Angeles:20250421T203000
DTSTAMP:20260419T111811
CREATED:20241204T210858Z
LAST-MODIFIED:20241206T201349Z
UID:10016930-1745260200-1745267400@www.noozhawk.com
SUMMARY:Head Games Trivia Night @ M. Special Brewing - Goleta
DESCRIPTION:Eat. Drink. Think. WIN!\n\n\nLive multi-media trivia every Monday @ 6:30pm.\n\n\nM.Special Brewing Co.\, Goleta Taproom.\n\n\nFree to play. Win prizes. Teams up to 6.\n\n \n\n\nHosted by comedian Lauren Krusyna
URL:https://www.noozhawk.com/calendar-old/head-games-trivia-night-m-special-brewing-goleta/2025-04-21/
LOCATION:M Special – Goleta\, 6860 Cortona Dr Building C\, Goleta\, CA\, 93117\, United States
ATTACH;FMTTYPE=image/jpeg:https://www.noozhawk.com/wp-content/uploads/2024/12/FACEBOOK-EVENT-SIZED-HEAD-GAMES-BANNER.jpg
GEO:34.4187305;-119.6976933
X-APPLE-STRUCTURED-LOCATION;VALUE=URI;X-ADDRESS=M Special – Goleta 6860 Cortona Dr Building C Goleta CA 93117 United States;X-APPLE-RADIUS=500;X-TITLE=6860 Cortona Dr Building C:geo:-119.6976933,34.4187305
END:VEVENT
END:VCALENDAR