BEGIN:VCALENDAR
VERSION:2.0
PRODID:-//Noozhawk - ECPv6.15.20//NONSGML v1.0//EN
CALSCALE:GREGORIAN
METHOD:PUBLISH
X-ORIGINAL-URL:https://www.noozhawk.com
X-WR-CALDESC:Events for Noozhawk
REFRESH-INTERVAL;VALUE=DURATION:PT1H
X-Robots-Tag:noindex
X-PUBLISHED-TTL:PT1H
BEGIN:VTIMEZONE
TZID:America/Los_Angeles
BEGIN:DAYLIGHT
TZOFFSETFROM:-0800
TZOFFSETTO:-0700
TZNAME:PDT
DTSTART:20240310T100000
END:DAYLIGHT
BEGIN:STANDARD
TZOFFSETFROM:-0700
TZOFFSETTO:-0800
TZNAME:PST
DTSTART:20241103T090000
END:STANDARD
BEGIN:DAYLIGHT
TZOFFSETFROM:-0800
TZOFFSETTO:-0700
TZNAME:PDT
DTSTART:20250309T100000
END:DAYLIGHT
BEGIN:STANDARD
TZOFFSETFROM:-0700
TZOFFSETTO:-0800
TZNAME:PST
DTSTART:20251102T090000
END:STANDARD
BEGIN:DAYLIGHT
TZOFFSETFROM:-0800
TZOFFSETTO:-0700
TZNAME:PDT
DTSTART:20260308T100000
END:DAYLIGHT
BEGIN:STANDARD
TZOFFSETFROM:-0700
TZOFFSETTO:-0800
TZNAME:PST
DTSTART:20261101T090000
END:STANDARD
END:VTIMEZONE
BEGIN:VEVENT
DTSTART;TZID=America/Los_Angeles:20250517T190000
DTEND;TZID=America/Los_Angeles:20250517T210000
DTSTAMP:20260420T032038
CREATED:20250503T161638Z
LAST-MODIFIED:20250503T161638Z
UID:10023771-1747508400-1747515600@www.noozhawk.com
SUMMARY:Urinetown the Musical
DESCRIPTION:Urinetown is a bold and satirical musical set in a drought-ravaged future where a corrupt government controls access to public restrooms\, forcing citizens to pay for the privilege. The story follows Bobby Strong\, a rebellious young man who leads a revolution against the oppressive system\, challenging the powerful officials like the ruthless Caldwell B. Cladwell. Alongside characters like Hope Cladwell\, the idealistic daughter of the villain\, and Little Sally\, a witty observer of the chaos\, the show balances sharp humor with social commentary. With its catchy songs\, memorable characters\, and daring plot twists\, Urinetown offers a unique and thought-provoking theater experience.\n\n\nVIP: $25 (INCLUDING SNACKS AND GIFT BAG)\n\n\nGENERAL ADMISSION: $15\n\n\nSTUDENT/SENIOR: $10\n\n \n\n\nhttps://gofan.co/app/school/CA23116_1
URL:https://www.noozhawk.com/calendar-old/urinetown-the-musical/2025-05-17/
LOCATION:Marquis Performing Arts Center\, Hollister Avenue\, Santa Barbara\, California\, 93110\, United States
ATTACH;FMTTYPE=image/jpeg:https://www.noozhawk.com/wp-content/uploads/2025/05/5O7A1144-scaled.jpg
GEO:34.4375589;-119.7871676
X-APPLE-STRUCTURED-LOCATION;VALUE=URI;X-ADDRESS=Marquis Performing Arts Center Hollister Avenue Santa Barbara California 93110 United States;X-APPLE-RADIUS=500;X-TITLE=Hollister Avenue:geo:-119.7871676,34.4375589
END:VEVENT
BEGIN:VEVENT
DTSTART;TZID=America/Los_Angeles:20250516T190000
DTEND;TZID=America/Los_Angeles:20250516T210000
DTSTAMP:20260420T032038
CREATED:20250503T161638Z
LAST-MODIFIED:20250503T161638Z
UID:10023770-1747422000-1747429200@www.noozhawk.com
SUMMARY:Urinetown the Musical
DESCRIPTION:Urinetown is a bold and satirical musical set in a drought-ravaged future where a corrupt government controls access to public restrooms\, forcing citizens to pay for the privilege. The story follows Bobby Strong\, a rebellious young man who leads a revolution against the oppressive system\, challenging the powerful officials like the ruthless Caldwell B. Cladwell. Alongside characters like Hope Cladwell\, the idealistic daughter of the villain\, and Little Sally\, a witty observer of the chaos\, the show balances sharp humor with social commentary. With its catchy songs\, memorable characters\, and daring plot twists\, Urinetown offers a unique and thought-provoking theater experience.\n\n\nVIP: $25 (INCLUDING SNACKS AND GIFT BAG)\n\n\nGENERAL ADMISSION: $15\n\n\nSTUDENT/SENIOR: $10\n\n \n\n\nhttps://gofan.co/app/school/CA23116_1
URL:https://www.noozhawk.com/calendar-old/urinetown-the-musical/2025-05-16/
LOCATION:Marquis Performing Arts Center\, Hollister Avenue\, Santa Barbara\, California\, 93110\, United States
ATTACH;FMTTYPE=image/jpeg:https://www.noozhawk.com/wp-content/uploads/2025/05/5O7A1144-scaled.jpg
GEO:34.4375589;-119.7871676
X-APPLE-STRUCTURED-LOCATION;VALUE=URI;X-ADDRESS=Marquis Performing Arts Center Hollister Avenue Santa Barbara California 93110 United States;X-APPLE-RADIUS=500;X-TITLE=Hollister Avenue:geo:-119.7871676,34.4375589
END:VEVENT
BEGIN:VEVENT
DTSTART;TZID=America/Los_Angeles:20250515T190000
DTEND;TZID=America/Los_Angeles:20250515T210000
DTSTAMP:20260420T032038
CREATED:20250503T161638Z
LAST-MODIFIED:20250503T161638Z
UID:10023769-1747335600-1747342800@www.noozhawk.com
SUMMARY:Urinetown the Musical
DESCRIPTION:Urinetown is a bold and satirical musical set in a drought-ravaged future where a corrupt government controls access to public restrooms\, forcing citizens to pay for the privilege. The story follows Bobby Strong\, a rebellious young man who leads a revolution against the oppressive system\, challenging the powerful officials like the ruthless Caldwell B. Cladwell. Alongside characters like Hope Cladwell\, the idealistic daughter of the villain\, and Little Sally\, a witty observer of the chaos\, the show balances sharp humor with social commentary. With its catchy songs\, memorable characters\, and daring plot twists\, Urinetown offers a unique and thought-provoking theater experience.\n\n\nVIP: $25 (INCLUDING SNACKS AND GIFT BAG)\n\n\nGENERAL ADMISSION: $15\n\n\nSTUDENT/SENIOR: $10\n\n \n\n\nhttps://gofan.co/app/school/CA23116_1
URL:https://www.noozhawk.com/calendar-old/urinetown-the-musical/2025-05-15/
LOCATION:Marquis Performing Arts Center\, Hollister Avenue\, Santa Barbara\, California\, 93110\, United States
ATTACH;FMTTYPE=image/jpeg:https://www.noozhawk.com/wp-content/uploads/2025/05/5O7A1144-scaled.jpg
GEO:34.4375589;-119.7871676
X-APPLE-STRUCTURED-LOCATION;VALUE=URI;X-ADDRESS=Marquis Performing Arts Center Hollister Avenue Santa Barbara California 93110 United States;X-APPLE-RADIUS=500;X-TITLE=Hollister Avenue:geo:-119.7871676,34.4375589
END:VEVENT
BEGIN:VEVENT
DTSTART;TZID=America/Los_Angeles:20250504T140000
DTEND;TZID=America/Los_Angeles:20250504T160000
DTSTAMP:20260420T032038
CREATED:20250503T161638Z
LAST-MODIFIED:20250503T161638Z
UID:10023768-1746367200-1746374400@www.noozhawk.com
SUMMARY:Urinetown the Musical
DESCRIPTION:Urinetown is a bold and satirical musical set in a drought-ravaged future where a corrupt government controls access to public restrooms\, forcing citizens to pay for the privilege. The story follows Bobby Strong\, a rebellious young man who leads a revolution against the oppressive system\, challenging the powerful officials like the ruthless Caldwell B. Cladwell. Alongside characters like Hope Cladwell\, the idealistic daughter of the villain\, and Little Sally\, a witty observer of the chaos\, the show balances sharp humor with social commentary. With its catchy songs\, memorable characters\, and daring plot twists\, Urinetown offers a unique and thought-provoking theater experience.\n\n\nVIP: $25 (INCLUDING SNACKS AND GIFT BAG)\n\n\nGENERAL ADMISSION: $15\n\n\nSTUDENT/SENIOR: $10\n\n \n\n\nhttps://gofan.co/app/school/CA23116_1
URL:https://www.noozhawk.com/calendar-old/urinetown-the-musical/2025-05-04/
LOCATION:Marquis Performing Arts Center\, Hollister Avenue\, Santa Barbara\, California\, 93110\, United States
ATTACH;FMTTYPE=image/jpeg:https://www.noozhawk.com/wp-content/uploads/2025/05/5O7A1144-scaled.jpg
GEO:34.4375589;-119.7871676
X-APPLE-STRUCTURED-LOCATION;VALUE=URI;X-ADDRESS=Marquis Performing Arts Center Hollister Avenue Santa Barbara California 93110 United States;X-APPLE-RADIUS=500;X-TITLE=Hollister Avenue:geo:-119.7871676,34.4375589
END:VEVENT
BEGIN:VEVENT
DTSTART;TZID=America/Los_Angeles:20250503T190000
DTEND;TZID=America/Los_Angeles:20250503T210000
DTSTAMP:20260420T032038
CREATED:20250503T161638Z
LAST-MODIFIED:20250503T161638Z
UID:10023767-1746298800-1746306000@www.noozhawk.com
SUMMARY:Urinetown the Musical
DESCRIPTION:Urinetown is a bold and satirical musical set in a drought-ravaged future where a corrupt government controls access to public restrooms\, forcing citizens to pay for the privilege. The story follows Bobby Strong\, a rebellious young man who leads a revolution against the oppressive system\, challenging the powerful officials like the ruthless Caldwell B. Cladwell. Alongside characters like Hope Cladwell\, the idealistic daughter of the villain\, and Little Sally\, a witty observer of the chaos\, the show balances sharp humor with social commentary. With its catchy songs\, memorable characters\, and daring plot twists\, Urinetown offers a unique and thought-provoking theater experience.\n\n\nVIP: $25 (INCLUDING SNACKS AND GIFT BAG)\n\n\nGENERAL ADMISSION: $15\n\n\nSTUDENT/SENIOR: $10\n\n \n\n\nhttps://gofan.co/app/school/CA23116_1
URL:https://www.noozhawk.com/calendar-old/urinetown-the-musical/2025-05-03/
LOCATION:Marquis Performing Arts Center\, Hollister Avenue\, Santa Barbara\, California\, 93110\, United States
ATTACH;FMTTYPE=image/jpeg:https://www.noozhawk.com/wp-content/uploads/2025/05/5O7A1144-scaled.jpg
GEO:34.4375589;-119.7871676
X-APPLE-STRUCTURED-LOCATION;VALUE=URI;X-ADDRESS=Marquis Performing Arts Center Hollister Avenue Santa Barbara California 93110 United States;X-APPLE-RADIUS=500;X-TITLE=Hollister Avenue:geo:-119.7871676,34.4375589
END:VEVENT
END:VCALENDAR