BEGIN:VCALENDAR
VERSION:2.0
PRODID:-//Noozhawk - ECPv6.15.20//NONSGML v1.0//EN
CALSCALE:GREGORIAN
METHOD:PUBLISH
X-ORIGINAL-URL:https://www.noozhawk.com
X-WR-CALDESC:Events for Noozhawk
REFRESH-INTERVAL;VALUE=DURATION:PT1H
X-Robots-Tag:noindex
X-PUBLISHED-TTL:PT1H
BEGIN:VTIMEZONE
TZID:America/Los_Angeles
BEGIN:DAYLIGHT
TZOFFSETFROM:-0800
TZOFFSETTO:-0700
TZNAME:PDT
DTSTART:20240310T100000
END:DAYLIGHT
BEGIN:STANDARD
TZOFFSETFROM:-0700
TZOFFSETTO:-0800
TZNAME:PST
DTSTART:20241103T090000
END:STANDARD
BEGIN:DAYLIGHT
TZOFFSETFROM:-0800
TZOFFSETTO:-0700
TZNAME:PDT
DTSTART:20250309T100000
END:DAYLIGHT
BEGIN:STANDARD
TZOFFSETFROM:-0700
TZOFFSETTO:-0800
TZNAME:PST
DTSTART:20251102T090000
END:STANDARD
BEGIN:DAYLIGHT
TZOFFSETFROM:-0800
TZOFFSETTO:-0700
TZNAME:PDT
DTSTART:20260308T100000
END:DAYLIGHT
BEGIN:STANDARD
TZOFFSETFROM:-0700
TZOFFSETTO:-0800
TZNAME:PST
DTSTART:20261101T090000
END:STANDARD
END:VTIMEZONE
BEGIN:VEVENT
DTSTART;TZID=America/Los_Angeles:20250531T090000
DTEND;TZID=America/Los_Angeles:20250531T110000
DTSTAMP:20260421T041110
CREATED:20250506T214059Z
LAST-MODIFIED:20250506T214059Z
UID:10023784-1748682000-1748689200@www.noozhawk.com
SUMMARY:SEEAG’s Free “Farm Day Every Day” At Rincon Farms
DESCRIPTION:Students for Eco-Education and Agriculture (SEEAG)\, host of annual Farm Day events in Ventura and Santa Barbara counties and student agriculture education programs\, is hosting its free “Farm Day Every Day” tour at Rincon Farms in Carpinteria on Saturday\, May 31 from 9:00 a.m. to 11:00 a.m.\n\n\nThe tour will take visitors through the Rincon Farms’ avocado orchards\, led by Sean Bettles\, Rincon Farms’ operations manager. They will learn about the diversity of crops\, see the packaging facility in action\, enjoy the beautiful views and taste freshly made guacamole. \n\n\nFarm Day Every Day is a year-round initiative that focuses on building the connection between the public and local agriculture by offering free farm tours.\n\n\nRegistration for the May 31 tour opens on Friday\, May 23 at 10 a.m. Only 50 spots are available. To learn how to register\, go to https://www.seeag.org/farm-day-every-day.
URL:https://www.noozhawk.com/calendar-old/seeags-free-farm-day-every-day-at-rincon-farms/
LOCATION:Rincon Farms\, Rincon Road\, Carpinteria\, CA\, 93013\, United States
ATTACH;FMTTYPE=image/jpeg:https://www.noozhawk.com/wp-content/uploads/2025/05/Rincon-Farms-Avocados-small.jpg
ORGANIZER;CN="SEEAG":MAILTO:seeag.education@seeag.org
GEO:34.386038;-119.457063
X-APPLE-STRUCTURED-LOCATION;VALUE=URI;X-ADDRESS=Rincon Farms Rincon Road Carpinteria CA 93013 United States;X-APPLE-RADIUS=500;X-TITLE=Rincon Road:geo:-119.457063,34.386038
END:VEVENT
END:VCALENDAR