BEGIN:VCALENDAR
VERSION:2.0
PRODID:-//Noozhawk - ECPv6.15.20//NONSGML v1.0//EN
CALSCALE:GREGORIAN
METHOD:PUBLISH
X-ORIGINAL-URL:https://www.noozhawk.com
X-WR-CALDESC:Events for Noozhawk
REFRESH-INTERVAL;VALUE=DURATION:PT1H
X-Robots-Tag:noindex
X-PUBLISHED-TTL:PT1H
BEGIN:VTIMEZONE
TZID:America/Los_Angeles
BEGIN:DAYLIGHT
TZOFFSETFROM:-0800
TZOFFSETTO:-0700
TZNAME:PDT
DTSTART:20240310T100000
END:DAYLIGHT
BEGIN:STANDARD
TZOFFSETFROM:-0700
TZOFFSETTO:-0800
TZNAME:PST
DTSTART:20241103T090000
END:STANDARD
BEGIN:DAYLIGHT
TZOFFSETFROM:-0800
TZOFFSETTO:-0700
TZNAME:PDT
DTSTART:20250309T100000
END:DAYLIGHT
BEGIN:STANDARD
TZOFFSETFROM:-0700
TZOFFSETTO:-0800
TZNAME:PST
DTSTART:20251102T090000
END:STANDARD
BEGIN:DAYLIGHT
TZOFFSETFROM:-0800
TZOFFSETTO:-0700
TZNAME:PDT
DTSTART:20260308T100000
END:DAYLIGHT
BEGIN:STANDARD
TZOFFSETFROM:-0700
TZOFFSETTO:-0800
TZNAME:PST
DTSTART:20261101T090000
END:STANDARD
END:VTIMEZONE
BEGIN:VEVENT
DTSTART;TZID=America/Los_Angeles:20250620T183000
DTEND;TZID=America/Los_Angeles:20250622T150000
DTSTAMP:20260424T020231
CREATED:20250616T165200Z
LAST-MODIFIED:20250616T165200Z
UID:10024331-1750444200-1750604400@www.noozhawk.com
SUMMARY:🎭 2nd Annual Hanne Pedersen One-Act Play Festival 🎭
DESCRIPTION:🎭 2nd Annual Hanne Pedersen One-Act Play Festival 🎭\nThe Alcazar Theatre and Ensemble proudly present the 2nd Annual Hanne Pedersen One-Act Play Festival\, celebrating the life and legacy of Hanne Pedersen—beloved writer\, director\, actress\, teacher\, and co-founder of the Carpinteria Community Theatre.\n\n\nThis year’s festival features the world premieres of six original one-act plays by talented writers from Santa Barbara\, Ventura\, and Los Angeles Counties:\n\n\nBreakable by Ashley Blom\n\n\nGarden in the City by Sophie Goldstein\n\n \n\n\nWhat I Did the Night of the Big Snowstorm by Scott Mullen\n\n\nExtraction by Lisa P. Sutton\n\n\nThe Society by Zev Vitanza\n\n\nPistachio Ice Cream by Robert Weibezahl\n\n\nEach play is brought to life by a powerhouse team of women directors: Dawn Balk\, Lynne Herrell\, Asa Olsson\, Dreamer Wilson\, Jadzia Winter\, and Leslie Vitanza AnnRenee.\n\n\nJoin us in honoring Hanne’s impact and supporting local theatre.\n🎟️ Tickets: $25 General | $20 Seniors/Students\nAvailable online or at the box office.
URL:https://www.noozhawk.com/calendar-old/%f0%9f%8e%ad-2nd-annual-hanne-pedersen-one-act-play-festival-%f0%9f%8e%ad/
LOCATION:The Alcazar Theater – Carpinteria
ATTACH;FMTTYPE=image/jpeg:https://www.noozhawk.com/wp-content/uploads/2025/06/502582219_10162268307289279_2268212744671858459_n.jpg
END:VEVENT
END:VCALENDAR