BEGIN:VCALENDAR
VERSION:2.0
PRODID:-//Noozhawk - ECPv6.15.20//NONSGML v1.0//EN
CALSCALE:GREGORIAN
METHOD:PUBLISH
X-WR-CALNAME:Noozhawk
X-ORIGINAL-URL:https://www.noozhawk.com
X-WR-CALDESC:Events for Noozhawk
REFRESH-INTERVAL;VALUE=DURATION:PT1H
X-Robots-Tag:noindex
X-PUBLISHED-TTL:PT1H
BEGIN:VTIMEZONE
TZID:America/Los_Angeles
BEGIN:DAYLIGHT
TZOFFSETFROM:-0800
TZOFFSETTO:-0700
TZNAME:PDT
DTSTART:20240310T100000
END:DAYLIGHT
BEGIN:STANDARD
TZOFFSETFROM:-0700
TZOFFSETTO:-0800
TZNAME:PST
DTSTART:20241103T090000
END:STANDARD
BEGIN:DAYLIGHT
TZOFFSETFROM:-0800
TZOFFSETTO:-0700
TZNAME:PDT
DTSTART:20250309T100000
END:DAYLIGHT
BEGIN:STANDARD
TZOFFSETFROM:-0700
TZOFFSETTO:-0800
TZNAME:PST
DTSTART:20251102T090000
END:STANDARD
BEGIN:DAYLIGHT
TZOFFSETFROM:-0800
TZOFFSETTO:-0700
TZNAME:PDT
DTSTART:20260308T100000
END:DAYLIGHT
BEGIN:STANDARD
TZOFFSETFROM:-0700
TZOFFSETTO:-0800
TZNAME:PST
DTSTART:20261101T090000
END:STANDARD
END:VTIMEZONE
BEGIN:VEVENT
DTSTART;TZID=America/Los_Angeles:20250720T140000
DTEND;TZID=America/Los_Angeles:20250720T170000
DTSTAMP:20260422T045805
CREATED:20250609T181853Z
LAST-MODIFIED:20250609T181853Z
UID:10024293-1753020000-1753030800@www.noozhawk.com
SUMMARY:Mozart's Don Giovanni
DESCRIPTION:Set in the 1930s Golden Age of Hollywood film\, this all-new production explores the power dynamic of the sexes through innovative direction by Mo Zhou\, conducted by Christian Reif.
URL:https://www.noozhawk.com/calendar-old/mozarts-don-giovanni-2/
LOCATION:The Granada Theatre\, 1214 State Street\, Santa Barbara\, CA 93101\, The Granada Theatre\, 1214 State Street\, Santa Barbara\, CA 93101\, Santa Barbara\, CA\, United States
ATTACH;FMTTYPE=image/jpeg:https://www.noozhawk.com/wp-content/uploads/2025/06/don-giovanni-banner-20x6-1-1.jpg
GEO:34.4239219;-119.7046944
X-APPLE-STRUCTURED-LOCATION;VALUE=URI;X-ADDRESS=The Granada Theatre 1214 State Street Santa Barbara CA 93101 The Granada Theatre 1214 State Street Santa Barbara CA 93101 Santa Barbara CA United States;X-APPLE-RADIUS=500;X-TITLE=The Granada Theatre\, 1214 State Street\, Santa Barbara\, CA 93101:geo:-119.7046944,34.4239219
END:VEVENT
BEGIN:VEVENT
DTSTART;TZID=America/Los_Angeles:20250718T193000
DTEND;TZID=America/Los_Angeles:20250718T213000
DTSTAMP:20260422T045805
CREATED:20250609T181748Z
LAST-MODIFIED:20250609T181748Z
UID:10024292-1752867000-1752874200@www.noozhawk.com
SUMMARY:Mozart's Don Giovanni
DESCRIPTION:Set in the 1930s Golden Age of Hollywood film\, this all-new production explores the power dynamic of the sexes through innovative direction by Mo Zhou\, conducted by Christian Reif.
URL:https://www.noozhawk.com/calendar-old/mozarts-don-giovanni/
LOCATION:The Granada Theatre\, 1214 State Street\, Santa Barbara\, CA 93101\, The Granada Theatre\, 1214 State Street\, Santa Barbara\, CA 93101\, Santa Barbara\, CA\, United States
ATTACH;FMTTYPE=image/jpeg:https://www.noozhawk.com/wp-content/uploads/2025/06/don-giovanni-banner-20x6-1.jpg
GEO:34.4239219;-119.7046944
X-APPLE-STRUCTURED-LOCATION;VALUE=URI;X-ADDRESS=The Granada Theatre 1214 State Street Santa Barbara CA 93101 The Granada Theatre 1214 State Street Santa Barbara CA 93101 Santa Barbara CA United States;X-APPLE-RADIUS=500;X-TITLE=The Granada Theatre\, 1214 State Street\, Santa Barbara\, CA 93101:geo:-119.7046944,34.4239219
END:VEVENT
BEGIN:VEVENT
DTSTART;TZID=America/Los_Angeles:20250703T193000
DTEND;TZID=America/Los_Angeles:20250703T210000
DTSTAMP:20260422T045805
CREATED:20250603T182454Z
LAST-MODIFIED:20250603T182454Z
UID:10023991-1751571000-1751576400@www.noozhawk.com
SUMMARY:Music Academy of the West Presents: PercussionFest
DESCRIPTION:A sonic adventure for all ages!\n\n\nFeel the beat! Experience the exciting world of percussion in this visually stunning\, family-friendly extravaganza where seeing the music is just as thrilling as hearing it.\n\n\nWatch as everyday objects transform into amazing instruments and colorful motion\, while synchronized percussionists create rhythmic wonders. Featuring movements from Grammy-nominated composer Andy Akiho’s shimmering Sculptures to a west coast premiere of The Bells by rock legend Stewart Copeland (of The Police)\, this multi-sensory adventure combines theatrical lighting\, short films\, and jaw-dropping performances that will captivate viewers of all ages.
URL:https://www.noozhawk.com/calendar-old/music-academy-of-the-west-presents-percussionfest/
LOCATION:The Granada Theatre\, 1214 State Street\, Santa Barbara\, CA 93101\, The Granada Theatre\, 1214 State Street\, Santa Barbara\, CA 93101\, Santa Barbara\, CA\, United States
ATTACH;FMTTYPE=image/jpeg:https://www.noozhawk.com/wp-content/uploads/2025/06/percussionfest-banner-20x6-1.jpg
GEO:34.4239219;-119.7046944
X-APPLE-STRUCTURED-LOCATION;VALUE=URI;X-ADDRESS=The Granada Theatre 1214 State Street Santa Barbara CA 93101 The Granada Theatre 1214 State Street Santa Barbara CA 93101 Santa Barbara CA United States;X-APPLE-RADIUS=500;X-TITLE=The Granada Theatre\, 1214 State Street\, Santa Barbara\, CA 93101:geo:-119.7046944,34.4239219
END:VEVENT
BEGIN:VEVENT
DTSTART;TZID=America/Los_Angeles:20250628T193000
DTEND;TZID=America/Los_Angeles:20250628T210000
DTSTAMP:20260422T045805
CREATED:20250601T205623Z
LAST-MODIFIED:20250601T205623Z
UID:10023982-1751139000-1751144400@www.noozhawk.com
SUMMARY:Music Academy Festival Orchestra: Pictures a an Exhibition
DESCRIPTION:Witness the raw power and nuanced beauty of a full symphony orchestra as it transforms into a surging ocean\, a cosmic meditation\, or a hypnotic dance. Be moved as monumental works\, led by today’s top conductors\, are performed by tomorrow’s stars.\n\n\nProgram\nAnthony Parnther conductor\nVALERIE COLEMAN Seven O’Clock Shout\n\n\nERNEST CHAUSSON Poème\, Op. 25 with Mosher Guest Artist RANDALL GOOSBY violin\n\n\nMODEST MUSSORGSKY ARR. RAVEL Pictures at an Exhibition
URL:https://www.noozhawk.com/calendar-old/music-academy-festival-orchestra-pictures-a-an-exhibition/
LOCATION:The Granada Theatre\, 1214 State Street\, Santa Barbara\, CA 93101\, The Granada Theatre\, 1214 State Street\, Santa Barbara\, CA 93101\, Santa Barbara\, CA\, United States
ATTACH;FMTTYPE=image/jpeg:https://www.noozhawk.com/wp-content/uploads/2025/06/afo-parnther-poster-27x40-1.jpg
GEO:34.4239219;-119.7046944
X-APPLE-STRUCTURED-LOCATION;VALUE=URI;X-ADDRESS=The Granada Theatre 1214 State Street Santa Barbara CA 93101 The Granada Theatre 1214 State Street Santa Barbara CA 93101 Santa Barbara CA United States;X-APPLE-RADIUS=500;X-TITLE=The Granada Theatre\, 1214 State Street\, Santa Barbara\, CA 93101:geo:-119.7046944,34.4239219
END:VEVENT
BEGIN:VEVENT
DTSTART;TZID=America/Los_Angeles:20250621T193000
DTEND;TZID=America/Los_Angeles:20250621T220000
DTSTAMP:20260422T045805
CREATED:20250601T203037Z
LAST-MODIFIED:20250601T203037Z
UID:10023977-1750534200-1750543200@www.noozhawk.com
SUMMARY:Music Academy of the West Presents JAWS @ 50
DESCRIPTION:Celebrate the 50th anniversary of one of the greatest motion pictures of all time\, JAWS\, with the full power of the Academy Festival Orchestra\, conducted by Ben Palmer.\n\n\nDirected by Academy Award®-winner Steven Spielberg\, JAWS set the standard for edge-of-your-seat suspense\, quickly becoming a cultural phenomenon and forever changing the movie industry. When the seaside community of Amity finds itself under attack by a dangerous great white shark\, the town’s chief of police\, a young marine biologist and a grizzled shark hunter embark on a desperate quest to destroy the beast before it strikes again.\n\n\nFeaturing an unforgettable score that evokes pure terror\, JAWS remains one of the most influential and gripping adventures in motion picture history.
URL:https://www.noozhawk.com/calendar-old/music-academy-of-the-west-presents-jaws-50-2/
LOCATION:The Granada Theatre\, 1214 State Street\, Santa Barbara\, CA 93101\, The Granada Theatre\, 1214 State Street\, Santa Barbara\, CA 93101\, Santa Barbara\, CA\, United States
ATTACH;FMTTYPE=image/jpeg:https://www.noozhawk.com/wp-content/uploads/2025/06/jaws-in-concert-20x6-1-1.jpg
GEO:34.4239219;-119.7046944
X-APPLE-STRUCTURED-LOCATION;VALUE=URI;X-ADDRESS=The Granada Theatre 1214 State Street Santa Barbara CA 93101 The Granada Theatre 1214 State Street Santa Barbara CA 93101 Santa Barbara CA United States;X-APPLE-RADIUS=500;X-TITLE=The Granada Theatre\, 1214 State Street\, Santa Barbara\, CA 93101:geo:-119.7046944,34.4239219
END:VEVENT
BEGIN:VEVENT
DTSTART;TZID=America/Los_Angeles:20250621T190000
DTEND;TZID=America/Los_Angeles:20250621T220000
DTSTAMP:20260422T045805
CREATED:20250601T202812Z
LAST-MODIFIED:20250601T202812Z
UID:10023976-1750532400-1750543200@www.noozhawk.com
SUMMARY:Music Academy of the West Presents JAWS @ 50
DESCRIPTION:Celebrate the 50th anniversary of one of the greatest motion pictures of all time\, JAWS\, with the full power of the Academy Festival Orchestra\, conducted by Ben Palmer.\n\n\nDirected by Academy Award®-winner Steven Spielberg\, JAWS set the standard for edge-of-your-seat suspense\, quickly becoming a cultural phenomenon and forever changing the movie industry. When the seaside community of Amity finds itself under attack by a dangerous great white shark\, the town’s chief of police\, a young marine biologist and a grizzled shark hunter embark on a desperate quest to destroy the beast before it strikes again.\n\n\nFeaturing an unforgettable score that evokes pure terror\, JAWS remains one of the most influential and gripping adventures in motion picture history.
URL:https://www.noozhawk.com/calendar-old/music-academy-of-the-west-presents-jaws-50/
LOCATION:The Granada Theatre\, 1214 State Street\, Santa Barbara\, CA 93101\, The Granada Theatre\, 1214 State Street\, Santa Barbara\, CA 93101\, Santa Barbara\, CA\, United States
ATTACH;FMTTYPE=image/jpeg:https://www.noozhawk.com/wp-content/uploads/2025/06/jaws-in-concert-20x6-1.jpg
GEO:34.4239219;-119.7046944
X-APPLE-STRUCTURED-LOCATION;VALUE=URI;X-ADDRESS=The Granada Theatre 1214 State Street Santa Barbara CA 93101 The Granada Theatre 1214 State Street Santa Barbara CA 93101 Santa Barbara CA United States;X-APPLE-RADIUS=500;X-TITLE=The Granada Theatre\, 1214 State Street\, Santa Barbara\, CA 93101:geo:-119.7046944,34.4239219
END:VEVENT
BEGIN:VEVENT
DTSTART;TZID=America/Los_Angeles:20250524T193000
DTEND;TZID=America/Los_Angeles:20250524T220000
DTSTAMP:20260422T045805
CREATED:20250501T234646Z
LAST-MODIFIED:20250501T234646Z
UID:10023743-1748115000-1748124000@www.noozhawk.com
SUMMARY:Locals & Legends: Celebrating the Music of David Crosby
DESCRIPTION:Presented by Santa Barbara Records & The Granada\nWith The Santa Barbara Symphony | Nir Kabaretti\, Music and Artistic Director\n\n\nSanta Barbara Records’ artists Glen Phillips\, Chris and John Beland\, Shawn Thies\, Jonathan Firey\, and Kathleen Sieck take center stage along with special guests James Raymond\, Steve Postell\, Miriam Dance\, Lois Mahalia\, and more\, for an evening dedicated to community and local artistry while celebrating the music of David Crosby. Backed by an all-star band of Santa Barbara’s top talent and the Santa Barbara Symphony\, Nir Kabaretti\, Music and Artistic Director\, this special performance reimagines Crosby’s iconic catalog while showcasing original works from Santa Barbara’s finest musicians.\n\n\nFrom singer-songwriters to seasoned performers\, this event celebrates the full circle of Santa Barbara’s music scene. It’s a night to honor where we come from\, who we are\, and the sounds that unite us.\n\n\n Local sounds\, legendary songs—one night only!
URL:https://www.noozhawk.com/calendar-old/locals-legends-celebrating-the-music-of-david-crosby/
LOCATION:The Granada Theatre\, 1214 State Street\, Santa Barbara\, CA 93101\, The Granada Theatre\, 1214 State Street\, Santa Barbara\, CA 93101\, Santa Barbara\, CA\, United States
GEO:34.4239219;-119.7046944
X-APPLE-STRUCTURED-LOCATION;VALUE=URI;X-ADDRESS=The Granada Theatre 1214 State Street Santa Barbara CA 93101 The Granada Theatre 1214 State Street Santa Barbara CA 93101 Santa Barbara CA United States;X-APPLE-RADIUS=500;X-TITLE=The Granada Theatre\, 1214 State Street\, Santa Barbara\, CA 93101:geo:-119.7046944,34.4239219
END:VEVENT
BEGIN:VEVENT
DTSTART;TZID=America/Los_Angeles:20250507T193000
DTEND;TZID=America/Los_Angeles:20250507T223000
DTSTAMP:20260422T045805
CREATED:20240607T133118Z
LAST-MODIFIED:20240607T133118Z
UID:10012714-1746646200-1746657000@www.noozhawk.com
SUMMARY:THE ADDAMS FAMILY
DESCRIPTION:A comical feast that embraces the wackiness in every family\, THE ADDAMS FAMILY is the magnificently macabre hit musical featuring everyone’s favorite creepy\, kooky characters. Wednesday Addams\, the ultimate princess of darkness\, has grown up and fallen in love with a sweet\, smart young man from a respectable family. A man her parents have never met. And if that weren’t upsetting enough\, she confides in her father and begs him not to tell her mother. Now\, Gomez Addams must do something he’s never done before – keep a secret from his beloved wife\, Morticia. Everything will change for the whole family on the fateful night they host a dinner for Wednesday’s “normal” boyfriend and his parents.\n\n\nOn the heels of Wednesday\, the 3rd most-watched show on Netflix of all time\, Big League Productions\, Inc. presents THE ADDAMS FAMILY\, a devilishly delightful musical comedy based on the bizarre and beloved characters by legendary cartoonist Charles Addams. \n\n\nPerformance Schedule:\nTuesday\, May 6\, 2025 – 7:30 p.m.\nWednesday\, May 7\, 2025 – 7:30 p.m.
URL:https://www.noozhawk.com/calendar-old/the-addams-family/2025-05-07/
LOCATION:The Granada Theatre\, 1214 State Street\, Santa Barbara\, CA 93101\, The Granada Theatre\, 1214 State Street\, Santa Barbara\, CA 93101\, Santa Barbara\, CA\, United States
ATTACH;FMTTYPE=image/jpeg:https://www.noozhawk.com/wp-content/uploads/2024/06/1-003_The-Addams-Family_Pamela-Raith-Photography-scaled.jpg
GEO:34.4239219;-119.7046944
X-APPLE-STRUCTURED-LOCATION;VALUE=URI;X-ADDRESS=The Granada Theatre 1214 State Street Santa Barbara CA 93101 The Granada Theatre 1214 State Street Santa Barbara CA 93101 Santa Barbara CA United States;X-APPLE-RADIUS=500;X-TITLE=The Granada Theatre\, 1214 State Street\, Santa Barbara\, CA 93101:geo:-119.7046944,34.4239219
END:VEVENT
BEGIN:VEVENT
DTSTART;TZID=America/Los_Angeles:20250506T193000
DTEND;TZID=America/Los_Angeles:20250506T223000
DTSTAMP:20260422T045805
CREATED:20240607T133118Z
LAST-MODIFIED:20240607T133118Z
UID:10012713-1746559800-1746570600@www.noozhawk.com
SUMMARY:THE ADDAMS FAMILY
DESCRIPTION:A comical feast that embraces the wackiness in every family\, THE ADDAMS FAMILY is the magnificently macabre hit musical featuring everyone’s favorite creepy\, kooky characters. Wednesday Addams\, the ultimate princess of darkness\, has grown up and fallen in love with a sweet\, smart young man from a respectable family. A man her parents have never met. And if that weren’t upsetting enough\, she confides in her father and begs him not to tell her mother. Now\, Gomez Addams must do something he’s never done before – keep a secret from his beloved wife\, Morticia. Everything will change for the whole family on the fateful night they host a dinner for Wednesday’s “normal” boyfriend and his parents.\n\n\nOn the heels of Wednesday\, the 3rd most-watched show on Netflix of all time\, Big League Productions\, Inc. presents THE ADDAMS FAMILY\, a devilishly delightful musical comedy based on the bizarre and beloved characters by legendary cartoonist Charles Addams. \n\n\nPerformance Schedule:\nTuesday\, May 6\, 2025 – 7:30 p.m.\nWednesday\, May 7\, 2025 – 7:30 p.m.
URL:https://www.noozhawk.com/calendar-old/the-addams-family/2025-05-06/
LOCATION:The Granada Theatre\, 1214 State Street\, Santa Barbara\, CA 93101\, The Granada Theatre\, 1214 State Street\, Santa Barbara\, CA 93101\, Santa Barbara\, CA\, United States
ATTACH;FMTTYPE=image/jpeg:https://www.noozhawk.com/wp-content/uploads/2024/06/1-003_The-Addams-Family_Pamela-Raith-Photography-scaled.jpg
GEO:34.4239219;-119.7046944
X-APPLE-STRUCTURED-LOCATION;VALUE=URI;X-ADDRESS=The Granada Theatre 1214 State Street Santa Barbara CA 93101 The Granada Theatre 1214 State Street Santa Barbara CA 93101 Santa Barbara CA United States;X-APPLE-RADIUS=500;X-TITLE=The Granada Theatre\, 1214 State Street\, Santa Barbara\, CA 93101:geo:-119.7046944,34.4239219
END:VEVENT
END:VCALENDAR