BEGIN:VCALENDAR
VERSION:2.0
PRODID:-//Noozhawk - ECPv6.15.20//NONSGML v1.0//EN
CALSCALE:GREGORIAN
METHOD:PUBLISH
X-WR-CALNAME:Noozhawk
X-ORIGINAL-URL:https://www.noozhawk.com
X-WR-CALDESC:Events for Noozhawk
REFRESH-INTERVAL;VALUE=DURATION:PT1H
X-Robots-Tag:noindex
X-PUBLISHED-TTL:PT1H
BEGIN:VTIMEZONE
TZID:America/Los_Angeles
BEGIN:DAYLIGHT
TZOFFSETFROM:-0800
TZOFFSETTO:-0700
TZNAME:PDT
DTSTART:20240310T100000
END:DAYLIGHT
BEGIN:STANDARD
TZOFFSETFROM:-0700
TZOFFSETTO:-0800
TZNAME:PST
DTSTART:20241103T090000
END:STANDARD
BEGIN:DAYLIGHT
TZOFFSETFROM:-0800
TZOFFSETTO:-0700
TZNAME:PDT
DTSTART:20250309T100000
END:DAYLIGHT
BEGIN:STANDARD
TZOFFSETFROM:-0700
TZOFFSETTO:-0800
TZNAME:PST
DTSTART:20251102T090000
END:STANDARD
BEGIN:DAYLIGHT
TZOFFSETFROM:-0800
TZOFFSETTO:-0700
TZNAME:PDT
DTSTART:20260308T100000
END:DAYLIGHT
BEGIN:STANDARD
TZOFFSETFROM:-0700
TZOFFSETTO:-0800
TZNAME:PST
DTSTART:20261101T090000
END:STANDARD
END:VTIMEZONE
BEGIN:VEVENT
DTSTART;TZID=America/Los_Angeles:20250504T143000
DTEND;TZID=America/Los_Angeles:20250504T160000
DTSTAMP:20260425T191827
CREATED:20240709T215928Z
LAST-MODIFIED:20240709T215928Z
UID:10013470-1746369000-1746374400@www.noozhawk.com
SUMMARY:The Daughter of the Regiment
DESCRIPTION:Opera Santa Barbara presents The Daughter of the Regiment on Friday\, May 2\, 2025 at 7:30 PM and Sunday\, May 4\, 2025 at 2:30 PM. Romantic comedy by Gaetano Donizetti. A girl raised on the battlefield by a rowdy French Regiment falls in love with an enemy peasant boy\, in the ultimate bel canto romantic comedy full of melodies and vocal fireworks. Starring Jana McIntyre\, and directed by Pacific Opera Project’s irrepressible Josh Shaw.
URL:https://www.noozhawk.com/calendar-old/the-daughter-of-the-regiment-2/
LOCATION:The Lobero Theatre
ATTACH;FMTTYPE=image/jpeg:https://www.noozhawk.com/wp-content/uploads/2024/07/RegimentWeb-1000x700-2.jpg
END:VEVENT
BEGIN:VEVENT
DTSTART;TZID=America/Los_Angeles:20250502T193000
DTEND;TZID=America/Los_Angeles:20250502T210000
DTSTAMP:20260425T191827
CREATED:20240709T215048Z
LAST-MODIFIED:20240709T215048Z
UID:10013469-1746214200-1746219600@www.noozhawk.com
SUMMARY:The Daughter of the Regiment
DESCRIPTION:Opera Santa Barbara presents The Daughter of the Regiment on Friday\, May 2\, 2025 at 7:30 PM and Sunday\, May 4\, 2025 at 2:30 PM. Romantic comedy by Gaetano Donizetti. A girl raised on the battlefield by a rowdy French Regiment falls in love with an enemy peasant boy\, in the ultimate bel canto romantic comedy full of melodies and vocal fireworks. Starring Jana McIntyre\, and directed by Pacific Opera Project’s irrepressible Josh Shaw.
URL:https://www.noozhawk.com/calendar-old/the-daughter-of-the-regiment/
LOCATION:The Lobero Theatre
ATTACH;FMTTYPE=image/jpeg:https://www.noozhawk.com/wp-content/uploads/2024/07/RegimentWeb-1000x700-1.jpg
END:VEVENT
END:VCALENDAR