BEGIN:VCALENDAR
VERSION:2.0
PRODID:-//Noozhawk - ECPv6.15.20//NONSGML v1.0//EN
CALSCALE:GREGORIAN
METHOD:PUBLISH
X-WR-CALNAME:Noozhawk
X-ORIGINAL-URL:https://www.noozhawk.com
X-WR-CALDESC:Events for Noozhawk
REFRESH-INTERVAL;VALUE=DURATION:PT1H
X-Robots-Tag:noindex
X-PUBLISHED-TTL:PT1H
BEGIN:VTIMEZONE
TZID:America/Los_Angeles
BEGIN:DAYLIGHT
TZOFFSETFROM:-0800
TZOFFSETTO:-0700
TZNAME:PDT
DTSTART:20240310T100000
END:DAYLIGHT
BEGIN:STANDARD
TZOFFSETFROM:-0700
TZOFFSETTO:-0800
TZNAME:PST
DTSTART:20241103T090000
END:STANDARD
BEGIN:DAYLIGHT
TZOFFSETFROM:-0800
TZOFFSETTO:-0700
TZNAME:PDT
DTSTART:20250309T100000
END:DAYLIGHT
BEGIN:STANDARD
TZOFFSETFROM:-0700
TZOFFSETTO:-0800
TZNAME:PST
DTSTART:20251102T090000
END:STANDARD
BEGIN:DAYLIGHT
TZOFFSETFROM:-0800
TZOFFSETTO:-0700
TZNAME:PDT
DTSTART:20260308T100000
END:DAYLIGHT
BEGIN:STANDARD
TZOFFSETFROM:-0700
TZOFFSETTO:-0800
TZNAME:PST
DTSTART:20261101T090000
END:STANDARD
END:VTIMEZONE
BEGIN:VEVENT
DTSTART;TZID=America/Los_Angeles:20250518T180000
DTEND;TZID=America/Los_Angeles:20250518T193000
DTSTAMP:20260419T131110
CREATED:20250409T231610Z
LAST-MODIFIED:20250409T231610Z
UID:10018839-1747591200-1747596600@www.noozhawk.com
SUMMARY:Viva Presents Ballet Nepantla
DESCRIPTION:Ballet Nepantla combines contemporary dance with Mexican folkloric traditions to explore innovative interpretative approaches to cultural and historical “in-betweenness.” Nepantla\, a Nahuatl term of the indigenous people of Mexico\, provides a historical\, intellectual\, and artistic framework through which to explore the “in-between” spaces of history and culture by exploring new artistic expression that fuses different traditions on stage. \n\n\nThree Free Public Performances\nFri\, May 16 | 7 PM | Isla Vista Elementary\nSat\, May 17 | 7 PM | Guadalupe City Hall\nSun\, May 18 | 6 PM | Marjorie Luke Theatre\n\n\nTo learn more please visit: https://artsandlectures.ucsb.edu/learn/viva-el-arte-de-santa-barbara/  \n\n\nSocial Media Links:\nhttps://www.facebook.com/VivaelArteSB\nhttps://www.instagram.com/vivaelartesantabarbara/
URL:https://www.noozhawk.com/calendar-old/viva-presents-ballet-nepantla-3/
LOCATION:The Marjorie Luke Theatre\, 721 E Cota St\, Santa Barbara\, The Marjorie Luke Theatre\, 721 E Cota St\, Santa Barbara\, CA\, 93117\, United States
ATTACH;FMTTYPE=image/png:https://www.noozhawk.com/wp-content/uploads/2025/04/Screenshot-2025-04-09-at-3.57.58 PM-2.png
END:VEVENT
END:VCALENDAR