BEGIN:VCALENDAR
VERSION:2.0
PRODID:-//Noozhawk - ECPv6.15.20//NONSGML v1.0//EN
CALSCALE:GREGORIAN
METHOD:PUBLISH
X-WR-CALNAME:Noozhawk
X-ORIGINAL-URL:https://www.noozhawk.com
X-WR-CALDESC:Events for Noozhawk
REFRESH-INTERVAL;VALUE=DURATION:PT1H
X-Robots-Tag:noindex
X-PUBLISHED-TTL:PT1H
BEGIN:VTIMEZONE
TZID:America/Los_Angeles
BEGIN:DAYLIGHT
TZOFFSETFROM:-0800
TZOFFSETTO:-0700
TZNAME:PDT
DTSTART:20240310T100000
END:DAYLIGHT
BEGIN:STANDARD
TZOFFSETFROM:-0700
TZOFFSETTO:-0800
TZNAME:PST
DTSTART:20241103T090000
END:STANDARD
BEGIN:DAYLIGHT
TZOFFSETFROM:-0800
TZOFFSETTO:-0700
TZNAME:PDT
DTSTART:20250309T100000
END:DAYLIGHT
BEGIN:STANDARD
TZOFFSETFROM:-0700
TZOFFSETTO:-0800
TZNAME:PST
DTSTART:20251102T090000
END:STANDARD
BEGIN:DAYLIGHT
TZOFFSETFROM:-0800
TZOFFSETTO:-0700
TZNAME:PDT
DTSTART:20260308T100000
END:DAYLIGHT
BEGIN:STANDARD
TZOFFSETFROM:-0700
TZOFFSETTO:-0800
TZNAME:PST
DTSTART:20261101T090000
END:STANDARD
END:VTIMEZONE
BEGIN:VEVENT
DTSTART;TZID=America/Los_Angeles:20251202T190000
DTEND;TZID=America/Los_Angeles:20251202T203000
DTSTAMP:20260419T111056
CREATED:20250430T173149Z
LAST-MODIFIED:20250430T173149Z
UID:10023723-1764702000-1764707400@www.noozhawk.com
SUMMARY:Sound Healing with Crystal Singing Bowls
DESCRIPTION:Join us for a meditative evening of sound healing with crystal singing bowls\, led by holistic health practitioner\, Amy Bacheller. This is a live\, in-person event for people local to Santa Barbara\, California. Dissolve the stress of the day with the soul soothing tones of the crystalline bowls\, blended with Amy’s angelic voice for a truly transcendent experience. Sound healing is the medicine of the future and the future is now. \n\n\nAmy Bacheller\, M.Ed\, NC. With over thirty years of experience in her holistic health practice\, Scent From Heaven\, Amy offers spiritual\, lifestyle and nutrition guidance\, combined with sound healing\, for transformational healing from cell to soul. She is certified in a variety of modalities including sound healing\, nutrition\, clinical guided-imagery\, energy work\, and aromatherapy. She brings her extensive professional training\, personal experience and intuitive wisdom to all of her work with students and private clients around the world.\n\n\nUnity of Santa Barbara\n227 E Arrellaga St\, Santa Barbara\, CA 93101
URL:https://www.noozhawk.com/calendar-old/sound-healing-with-crystal-singing-bowls-3/2025-12-02/
LOCATION:Unity of Santa Barbara\, 227 E Arrellaga St.\, Santa Barbara\, CA\, 93101\, United States
ATTACH;FMTTYPE=image/png:https://www.noozhawk.com/wp-content/uploads/2025/04/IMG_3195.png
ORGANIZER;CN="Amy Bacheller":MAILTO:bhyatt@caffeinegroup.com
GEO:31.9685988;-99.9018131
X-APPLE-STRUCTURED-LOCATION;VALUE=URI;X-ADDRESS=Unity of Santa Barbara 227 E Arrellaga St. Santa Barbara CA 93101 United States;X-APPLE-RADIUS=500;X-TITLE=227 E Arrellaga St.:geo:-99.9018131,31.9685988
END:VEVENT
BEGIN:VEVENT
DTSTART;TZID=America/Los_Angeles:20251104T190000
DTEND;TZID=America/Los_Angeles:20251104T203000
DTSTAMP:20260419T111056
CREATED:20250430T173149Z
LAST-MODIFIED:20250430T173149Z
UID:10023722-1762282800-1762288200@www.noozhawk.com
SUMMARY:Sound Healing with Crystal Singing Bowls
DESCRIPTION:Join us for a meditative evening of sound healing with crystal singing bowls\, led by holistic health practitioner\, Amy Bacheller. This is a live\, in-person event for people local to Santa Barbara\, California. Dissolve the stress of the day with the soul soothing tones of the crystalline bowls\, blended with Amy’s angelic voice for a truly transcendent experience. Sound healing is the medicine of the future and the future is now. \n\n\nAmy Bacheller\, M.Ed\, NC. With over thirty years of experience in her holistic health practice\, Scent From Heaven\, Amy offers spiritual\, lifestyle and nutrition guidance\, combined with sound healing\, for transformational healing from cell to soul. She is certified in a variety of modalities including sound healing\, nutrition\, clinical guided-imagery\, energy work\, and aromatherapy. She brings her extensive professional training\, personal experience and intuitive wisdom to all of her work with students and private clients around the world.\n\n\nUnity of Santa Barbara\n227 E Arrellaga St\, Santa Barbara\, CA 93101
URL:https://www.noozhawk.com/calendar-old/sound-healing-with-crystal-singing-bowls-3/2025-11-04/
LOCATION:Unity of Santa Barbara\, 227 E Arrellaga St.\, Santa Barbara\, CA\, 93101\, United States
ATTACH;FMTTYPE=image/png:https://www.noozhawk.com/wp-content/uploads/2025/04/IMG_3195.png
ORGANIZER;CN="Amy Bacheller":MAILTO:bhyatt@caffeinegroup.com
GEO:31.9685988;-99.9018131
X-APPLE-STRUCTURED-LOCATION;VALUE=URI;X-ADDRESS=Unity of Santa Barbara 227 E Arrellaga St. Santa Barbara CA 93101 United States;X-APPLE-RADIUS=500;X-TITLE=227 E Arrellaga St.:geo:-99.9018131,31.9685988
END:VEVENT
BEGIN:VEVENT
DTSTART;TZID=America/Los_Angeles:20251007T190000
DTEND;TZID=America/Los_Angeles:20251007T203000
DTSTAMP:20260419T111056
CREATED:20250430T173149Z
LAST-MODIFIED:20250430T173149Z
UID:10023721-1759863600-1759869000@www.noozhawk.com
SUMMARY:Sound Healing with Crystal Singing Bowls
DESCRIPTION:Join us for a meditative evening of sound healing with crystal singing bowls\, led by holistic health practitioner\, Amy Bacheller. This is a live\, in-person event for people local to Santa Barbara\, California. Dissolve the stress of the day with the soul soothing tones of the crystalline bowls\, blended with Amy’s angelic voice for a truly transcendent experience. Sound healing is the medicine of the future and the future is now. \n\n\nAmy Bacheller\, M.Ed\, NC. With over thirty years of experience in her holistic health practice\, Scent From Heaven\, Amy offers spiritual\, lifestyle and nutrition guidance\, combined with sound healing\, for transformational healing from cell to soul. She is certified in a variety of modalities including sound healing\, nutrition\, clinical guided-imagery\, energy work\, and aromatherapy. She brings her extensive professional training\, personal experience and intuitive wisdom to all of her work with students and private clients around the world.\n\n\nUnity of Santa Barbara\n227 E Arrellaga St\, Santa Barbara\, CA 93101
URL:https://www.noozhawk.com/calendar-old/sound-healing-with-crystal-singing-bowls-3/2025-10-07/
LOCATION:Unity of Santa Barbara\, 227 E Arrellaga St.\, Santa Barbara\, CA\, 93101\, United States
ATTACH;FMTTYPE=image/png:https://www.noozhawk.com/wp-content/uploads/2025/04/IMG_3195.png
ORGANIZER;CN="Amy Bacheller":MAILTO:bhyatt@caffeinegroup.com
GEO:31.9685988;-99.9018131
X-APPLE-STRUCTURED-LOCATION;VALUE=URI;X-ADDRESS=Unity of Santa Barbara 227 E Arrellaga St. Santa Barbara CA 93101 United States;X-APPLE-RADIUS=500;X-TITLE=227 E Arrellaga St.:geo:-99.9018131,31.9685988
END:VEVENT
BEGIN:VEVENT
DTSTART;TZID=America/Los_Angeles:20250902T190000
DTEND;TZID=America/Los_Angeles:20250902T203000
DTSTAMP:20260419T111056
CREATED:20250430T173149Z
LAST-MODIFIED:20250430T173149Z
UID:10023720-1756839600-1756845000@www.noozhawk.com
SUMMARY:Sound Healing with Crystal Singing Bowls
DESCRIPTION:Join us for a meditative evening of sound healing with crystal singing bowls\, led by holistic health practitioner\, Amy Bacheller. This is a live\, in-person event for people local to Santa Barbara\, California. Dissolve the stress of the day with the soul soothing tones of the crystalline bowls\, blended with Amy’s angelic voice for a truly transcendent experience. Sound healing is the medicine of the future and the future is now. \n\n\nAmy Bacheller\, M.Ed\, NC. With over thirty years of experience in her holistic health practice\, Scent From Heaven\, Amy offers spiritual\, lifestyle and nutrition guidance\, combined with sound healing\, for transformational healing from cell to soul. She is certified in a variety of modalities including sound healing\, nutrition\, clinical guided-imagery\, energy work\, and aromatherapy. She brings her extensive professional training\, personal experience and intuitive wisdom to all of her work with students and private clients around the world.\n\n\nUnity of Santa Barbara\n227 E Arrellaga St\, Santa Barbara\, CA 93101
URL:https://www.noozhawk.com/calendar-old/sound-healing-with-crystal-singing-bowls-3/2025-09-02/
LOCATION:Unity of Santa Barbara\, 227 E Arrellaga St.\, Santa Barbara\, CA\, 93101\, United States
ATTACH;FMTTYPE=image/png:https://www.noozhawk.com/wp-content/uploads/2025/04/IMG_3195.png
ORGANIZER;CN="Amy Bacheller":MAILTO:bhyatt@caffeinegroup.com
GEO:31.9685988;-99.9018131
X-APPLE-STRUCTURED-LOCATION;VALUE=URI;X-ADDRESS=Unity of Santa Barbara 227 E Arrellaga St. Santa Barbara CA 93101 United States;X-APPLE-RADIUS=500;X-TITLE=227 E Arrellaga St.:geo:-99.9018131,31.9685988
END:VEVENT
BEGIN:VEVENT
DTSTART;TZID=America/Los_Angeles:20250805T190000
DTEND;TZID=America/Los_Angeles:20250805T203000
DTSTAMP:20260419T111056
CREATED:20250430T173149Z
LAST-MODIFIED:20250430T173149Z
UID:10023719-1754420400-1754425800@www.noozhawk.com
SUMMARY:Sound Healing with Crystal Singing Bowls
DESCRIPTION:Join us for a meditative evening of sound healing with crystal singing bowls\, led by holistic health practitioner\, Amy Bacheller. This is a live\, in-person event for people local to Santa Barbara\, California. Dissolve the stress of the day with the soul soothing tones of the crystalline bowls\, blended with Amy’s angelic voice for a truly transcendent experience. Sound healing is the medicine of the future and the future is now. \n\n\nAmy Bacheller\, M.Ed\, NC. With over thirty years of experience in her holistic health practice\, Scent From Heaven\, Amy offers spiritual\, lifestyle and nutrition guidance\, combined with sound healing\, for transformational healing from cell to soul. She is certified in a variety of modalities including sound healing\, nutrition\, clinical guided-imagery\, energy work\, and aromatherapy. She brings her extensive professional training\, personal experience and intuitive wisdom to all of her work with students and private clients around the world.\n\n\nUnity of Santa Barbara\n227 E Arrellaga St\, Santa Barbara\, CA 93101
URL:https://www.noozhawk.com/calendar-old/sound-healing-with-crystal-singing-bowls-3/2025-08-05/
LOCATION:Unity of Santa Barbara\, 227 E Arrellaga St.\, Santa Barbara\, CA\, 93101\, United States
ATTACH;FMTTYPE=image/png:https://www.noozhawk.com/wp-content/uploads/2025/04/IMG_3195.png
ORGANIZER;CN="Amy Bacheller":MAILTO:bhyatt@caffeinegroup.com
GEO:31.9685988;-99.9018131
X-APPLE-STRUCTURED-LOCATION;VALUE=URI;X-ADDRESS=Unity of Santa Barbara 227 E Arrellaga St. Santa Barbara CA 93101 United States;X-APPLE-RADIUS=500;X-TITLE=227 E Arrellaga St.:geo:-99.9018131,31.9685988
END:VEVENT
BEGIN:VEVENT
DTSTART;TZID=America/Los_Angeles:20250701T190000
DTEND;TZID=America/Los_Angeles:20250701T203000
DTSTAMP:20260419T111056
CREATED:20250430T173149Z
LAST-MODIFIED:20250430T173149Z
UID:10023718-1751396400-1751401800@www.noozhawk.com
SUMMARY:Sound Healing with Crystal Singing Bowls
DESCRIPTION:Join us for a meditative evening of sound healing with crystal singing bowls\, led by holistic health practitioner\, Amy Bacheller. This is a live\, in-person event for people local to Santa Barbara\, California. Dissolve the stress of the day with the soul soothing tones of the crystalline bowls\, blended with Amy’s angelic voice for a truly transcendent experience. Sound healing is the medicine of the future and the future is now. \n\n\nAmy Bacheller\, M.Ed\, NC. With over thirty years of experience in her holistic health practice\, Scent From Heaven\, Amy offers spiritual\, lifestyle and nutrition guidance\, combined with sound healing\, for transformational healing from cell to soul. She is certified in a variety of modalities including sound healing\, nutrition\, clinical guided-imagery\, energy work\, and aromatherapy. She brings her extensive professional training\, personal experience and intuitive wisdom to all of her work with students and private clients around the world.\n\n\nUnity of Santa Barbara\n227 E Arrellaga St\, Santa Barbara\, CA 93101
URL:https://www.noozhawk.com/calendar-old/sound-healing-with-crystal-singing-bowls-3/2025-07-01/
LOCATION:Unity of Santa Barbara\, 227 E Arrellaga St.\, Santa Barbara\, CA\, 93101\, United States
ATTACH;FMTTYPE=image/png:https://www.noozhawk.com/wp-content/uploads/2025/04/IMG_3195.png
ORGANIZER;CN="Amy Bacheller":MAILTO:bhyatt@caffeinegroup.com
GEO:31.9685988;-99.9018131
X-APPLE-STRUCTURED-LOCATION;VALUE=URI;X-ADDRESS=Unity of Santa Barbara 227 E Arrellaga St. Santa Barbara CA 93101 United States;X-APPLE-RADIUS=500;X-TITLE=227 E Arrellaga St.:geo:-99.9018131,31.9685988
END:VEVENT
BEGIN:VEVENT
DTSTART;TZID=America/Los_Angeles:20250603T190000
DTEND;TZID=America/Los_Angeles:20250603T203000
DTSTAMP:20260419T111056
CREATED:20250430T173149Z
LAST-MODIFIED:20250430T173149Z
UID:10023717-1748977200-1748982600@www.noozhawk.com
SUMMARY:Sound Healing with Crystal Singing Bowls
DESCRIPTION:Join us for a meditative evening of sound healing with crystal singing bowls\, led by holistic health practitioner\, Amy Bacheller. This is a live\, in-person event for people local to Santa Barbara\, California. Dissolve the stress of the day with the soul soothing tones of the crystalline bowls\, blended with Amy’s angelic voice for a truly transcendent experience. Sound healing is the medicine of the future and the future is now. \n\n\nAmy Bacheller\, M.Ed\, NC. With over thirty years of experience in her holistic health practice\, Scent From Heaven\, Amy offers spiritual\, lifestyle and nutrition guidance\, combined with sound healing\, for transformational healing from cell to soul. She is certified in a variety of modalities including sound healing\, nutrition\, clinical guided-imagery\, energy work\, and aromatherapy. She brings her extensive professional training\, personal experience and intuitive wisdom to all of her work with students and private clients around the world.\n\n\nUnity of Santa Barbara\n227 E Arrellaga St\, Santa Barbara\, CA 93101
URL:https://www.noozhawk.com/calendar-old/sound-healing-with-crystal-singing-bowls-3/2025-06-03/
LOCATION:Unity of Santa Barbara\, 227 E Arrellaga St.\, Santa Barbara\, CA\, 93101\, United States
ATTACH;FMTTYPE=image/png:https://www.noozhawk.com/wp-content/uploads/2025/04/IMG_3195.png
ORGANIZER;CN="Amy Bacheller":MAILTO:bhyatt@caffeinegroup.com
GEO:31.9685988;-99.9018131
X-APPLE-STRUCTURED-LOCATION;VALUE=URI;X-ADDRESS=Unity of Santa Barbara 227 E Arrellaga St. Santa Barbara CA 93101 United States;X-APPLE-RADIUS=500;X-TITLE=227 E Arrellaga St.:geo:-99.9018131,31.9685988
END:VEVENT
BEGIN:VEVENT
DTSTART;TZID=America/Los_Angeles:20250506T190000
DTEND;TZID=America/Los_Angeles:20250506T203000
DTSTAMP:20260419T111056
CREATED:20250430T173149Z
LAST-MODIFIED:20250430T173149Z
UID:10023716-1746558000-1746563400@www.noozhawk.com
SUMMARY:Sound Healing with Crystal Singing Bowls
DESCRIPTION:Join us for a meditative evening of sound healing with crystal singing bowls\, led by holistic health practitioner\, Amy Bacheller. This is a live\, in-person event for people local to Santa Barbara\, California. Dissolve the stress of the day with the soul soothing tones of the crystalline bowls\, blended with Amy’s angelic voice for a truly transcendent experience. Sound healing is the medicine of the future and the future is now. \n\n\nAmy Bacheller\, M.Ed\, NC. With over thirty years of experience in her holistic health practice\, Scent From Heaven\, Amy offers spiritual\, lifestyle and nutrition guidance\, combined with sound healing\, for transformational healing from cell to soul. She is certified in a variety of modalities including sound healing\, nutrition\, clinical guided-imagery\, energy work\, and aromatherapy. She brings her extensive professional training\, personal experience and intuitive wisdom to all of her work with students and private clients around the world.\n\n\nUnity of Santa Barbara\n227 E Arrellaga St\, Santa Barbara\, CA 93101
URL:https://www.noozhawk.com/calendar-old/sound-healing-with-crystal-singing-bowls-3/2025-05-06/
LOCATION:Unity of Santa Barbara\, 227 E Arrellaga St.\, Santa Barbara\, CA\, 93101\, United States
ATTACH;FMTTYPE=image/png:https://www.noozhawk.com/wp-content/uploads/2025/04/IMG_3195.png
ORGANIZER;CN="Amy Bacheller":MAILTO:bhyatt@caffeinegroup.com
GEO:31.9685988;-99.9018131
X-APPLE-STRUCTURED-LOCATION;VALUE=URI;X-ADDRESS=Unity of Santa Barbara 227 E Arrellaga St. Santa Barbara CA 93101 United States;X-APPLE-RADIUS=500;X-TITLE=227 E Arrellaga St.:geo:-99.9018131,31.9685988
END:VEVENT
END:VCALENDAR