BEGIN:VCALENDAR
VERSION:2.0
PRODID:-//Noozhawk - ECPv6.15.20//NONSGML v1.0//EN
CALSCALE:GREGORIAN
METHOD:PUBLISH
X-WR-CALNAME:Noozhawk
X-ORIGINAL-URL:https://www.noozhawk.com
X-WR-CALDESC:Events for Noozhawk
REFRESH-INTERVAL;VALUE=DURATION:PT1H
X-Robots-Tag:noindex
X-PUBLISHED-TTL:PT1H
BEGIN:VTIMEZONE
TZID:America/Los_Angeles
BEGIN:DAYLIGHT
TZOFFSETFROM:-0800
TZOFFSETTO:-0700
TZNAME:PDT
DTSTART:20240310T100000
END:DAYLIGHT
BEGIN:STANDARD
TZOFFSETFROM:-0700
TZOFFSETTO:-0800
TZNAME:PST
DTSTART:20241103T090000
END:STANDARD
BEGIN:DAYLIGHT
TZOFFSETFROM:-0800
TZOFFSETTO:-0700
TZNAME:PDT
DTSTART:20250309T100000
END:DAYLIGHT
BEGIN:STANDARD
TZOFFSETFROM:-0700
TZOFFSETTO:-0800
TZNAME:PST
DTSTART:20251102T090000
END:STANDARD
BEGIN:DAYLIGHT
TZOFFSETFROM:-0800
TZOFFSETTO:-0700
TZNAME:PDT
DTSTART:20260308T100000
END:DAYLIGHT
BEGIN:STANDARD
TZOFFSETFROM:-0700
TZOFFSETTO:-0800
TZNAME:PST
DTSTART:20261101T090000
END:STANDARD
END:VTIMEZONE
BEGIN:VEVENT
DTSTART;TZID=America/Los_Angeles:20250620T170000
DTEND;TZID=America/Los_Angeles:20250620T200000
DTSTAMP:20260419T191033
CREATED:20250528T223503Z
LAST-MODIFIED:20250528T223503Z
UID:10023939-1750438800-1750449600@www.noozhawk.com
SUMMARY:SBAA Voice Gallery - Third Friday Art Walk Reception
DESCRIPTION:Enjoy refreshments and meet our talented local artists at SBAA’s Third Friday Art Walk reception on 6/20/25 from 5-8pm at the Voice Gallery in La Cumbre Plaza.
URL:https://www.noozhawk.com/calendar-old/sbaa-voice-gallery-third-friday-art-walk-reception/
LOCATION:Voice Gallery\, 121 S. Hope Ave\, Goleta\, United States
ATTACH;FMTTYPE=image/jpeg:https://www.noozhawk.com/wp-content/uploads/2025/05/SBAA-poster-ad-small-2.jpeg
ORGANIZER;CN="Santa Barbara Art Association":MAILTO:SBAAdata@aol.com
END:VEVENT
BEGIN:VEVENT
DTSTART;TZID=America/Los_Angeles:20250605T170000
DTEND;TZID=America/Los_Angeles:20250605T200000
DTSTAMP:20260419T191033
CREATED:20250528T222842Z
LAST-MODIFIED:20250528T222842Z
UID:10023938-1749142800-1749153600@www.noozhawk.com
SUMMARY:SBAA Voice Gallery - June First Thursday Reception
DESCRIPTION:SBAA is hosting its First Thursday Reception on 6/5/25 from 5-8pm at the beautiful Voice Gallery. Come celebrate with us and meet our talented local artists!
URL:https://www.noozhawk.com/calendar-old/sbaa-voice-gallery-june-first-thursday-reception/
LOCATION:Voice Gallery\, 121 S. Hope Ave\, Goleta\, United States
ATTACH;FMTTYPE=image/jpeg:https://www.noozhawk.com/wp-content/uploads/2025/05/SBAA-poster-ad-small-1.jpeg
ORGANIZER;CN="Santa Barbara Art Association":MAILTO:SBAAdata@aol.com
END:VEVENT
BEGIN:VEVENT
DTSTART;TZID=America/Los_Angeles:20250602T100000
DTEND;TZID=America/Los_Angeles:20250627T173000
DTSTAMP:20260419T191033
CREATED:20250528T221444Z
LAST-MODIFIED:20250528T221444Z
UID:10023936-1748858400-1751045400@www.noozhawk.com
SUMMARY:SBAA June Show - Voice Gallery
DESCRIPTION:Santa Barbara Art Association is pleased to present its member art show during the month of June at the beautiful Voice Gallery in La Cumbre Plaza. Join us on 6/5/25 from 5-8 for our First Thursday reception\, as well as Friday\, 6/20/25 from 5-8.  Meet our artists in person and enjoy the great local art!
URL:https://www.noozhawk.com/calendar-old/sbaa-june-show-voice-gallery/
LOCATION:Voice Gallery\, 121 S. Hope Ave\, Goleta\, United States
ATTACH;FMTTYPE=image/jpeg:https://www.noozhawk.com/wp-content/uploads/2025/05/SBAA-poster-ad-small.jpeg
ORGANIZER;CN="Santa Barbara Art Association":MAILTO:SBAAdata@aol.com
END:VEVENT
END:VCALENDAR