BEGIN:VCALENDAR
VERSION:2.0
PRODID:-//Noozhawk - ECPv6.15.20//NONSGML v1.0//EN
CALSCALE:GREGORIAN
METHOD:PUBLISH
X-WR-CALNAME:Noozhawk
X-ORIGINAL-URL:https://www.noozhawk.com
X-WR-CALDESC:Events for Noozhawk
REFRESH-INTERVAL;VALUE=DURATION:PT1H
X-Robots-Tag:noindex
X-PUBLISHED-TTL:PT1H
BEGIN:VTIMEZONE
TZID:America/Los_Angeles
BEGIN:DAYLIGHT
TZOFFSETFROM:-0800
TZOFFSETTO:-0700
TZNAME:PDT
DTSTART:20240310T100000
END:DAYLIGHT
BEGIN:STANDARD
TZOFFSETFROM:-0700
TZOFFSETTO:-0800
TZNAME:PST
DTSTART:20241103T090000
END:STANDARD
BEGIN:DAYLIGHT
TZOFFSETFROM:-0800
TZOFFSETTO:-0700
TZNAME:PDT
DTSTART:20250309T100000
END:DAYLIGHT
BEGIN:STANDARD
TZOFFSETFROM:-0700
TZOFFSETTO:-0800
TZNAME:PST
DTSTART:20251102T090000
END:STANDARD
BEGIN:DAYLIGHT
TZOFFSETFROM:-0800
TZOFFSETTO:-0700
TZNAME:PDT
DTSTART:20260308T100000
END:DAYLIGHT
BEGIN:STANDARD
TZOFFSETFROM:-0700
TZOFFSETTO:-0800
TZNAME:PST
DTSTART:20261101T090000
END:STANDARD
END:VTIMEZONE
BEGIN:VEVENT
DTSTART;TZID=America/Los_Angeles:20250724T173000
DTEND;TZID=America/Los_Angeles:20250724T193000
DTSTAMP:20260423T091008
CREATED:20250625T004938Z
LAST-MODIFIED:20250625T004938Z
UID:10024433-1753378200-1753385400@www.noozhawk.com
SUMMARY:CORPORATE CONNECTIONS: POP UP MIXER YELLOW BELLY TAP
DESCRIPTION:SAVE THE DATE!\n🎉 Join us for an evening of connections\, conversations\, and community at the SBHRA Pop-Up Mixer—the perfect way to mix business with a little fun.\n\n\n📅 Date: July 24\, 2025\n\n\n⏰ Time: 5:30 PM – 7:30 PM\n\n\n📍 Location:Yellow Belly Tap\n\n \n\n\n       2611 De La Vina Street\, Santa Barbara\, CA 93105 🍻\n\n\nWhy You Should Join Us\nWhether you’re building your HR network\, looking for fresh ideas\, or just want to hang out with people who understand the world of HR\, this event is your chance to connect in a laid-back\, welcoming space. No stuffy agendas—just real conversations\, new faces\, and good vibes.\n\n\nCurious about SBHRA? This is your chance to see what we’re all about—creating spaces for HR professionals to learn\, grow\, and connect. Let’s raise a glass to new connections\, shared experiences\, and an amazing 2025! 🍻✨\n\n\nRegistration\nMembers: $10\nNon-Members: $25\nPhotography\nWhen attending our events\, your image may be captured on video or in photos taken on behalf of SBHRA. By registering for the event\, you give SBHRA the right to use candid group photos or videos without securing additional permission\, provided those images are not accompanied by personally-identifying information.
URL:https://www.noozhawk.com/calendar-old/corporate-connections-pop-up-mixer-yellow-belly-tap/
LOCATION:Yellow Belly Tap
ATTACH;FMTTYPE=image/jpeg:https://www.noozhawk.com/wp-content/uploads/2025/06/Mixer-Events-Linkedin-Posts-4.583-x-6.166-in.jpg
END:VEVENT
END:VCALENDAR